BEGIN:VCALENDAR
VERSION:2.0
PRODID:-//Kunstrasen - ECPv5.9.1//NONSGML v1.0//EN
CALSCALE:GREGORIAN
METHOD:PUBLISH
X-WR-CALNAME:Kunstrasen
X-ORIGINAL-URL:https://www.kunstrasen-magazin.de
X-WR-CALDESC:Veranstaltungen für Kunstrasen
BEGIN:VTIMEZONE
TZID:Europe/Berlin
BEGIN:DAYLIGHT
TZOFFSETFROM:+0100
TZOFFSETTO:+0200
TZNAME:CEST
DTSTART:20200329T010000
END:DAYLIGHT
BEGIN:STANDARD
TZOFFSETFROM:+0200
TZOFFSETTO:+0100
TZNAME:CET
DTSTART:20201025T010000
END:STANDARD
END:VTIMEZONE
BEGIN:VEVENT
DTSTART;TZID=Europe/Berlin:20201205T210000
DTEND;TZID=Europe/Berlin:20201205T210000
DTSTAMP:20260420T112227
CREATED:20200923T075235Z
LAST-MODIFIED:20200923T075235Z
UID:366-1607202000-1607202000@www.kunstrasen-magazin.de
SUMMARY:Zweischlingen
DESCRIPTION:COMEDY & CO.\nHumor ist gerade in diesen Zeiten absolut wichtig. Deshalb empfehlen wir das Programm im Zweischlingen\, das bereits im Oktober volle Fahrt aufnimmt und einen gezielten Angriff auf unsere Lachmuskeln startet. Im November geht’s munter weiter. Bademeister Schaluppke berichtet am 7.11. von „Chlorreichen Tagen“ direkt vom Brennpunkt der Republik: die Badeanstalt. Mit Florian Hacke kommt am 14.11. ein Mann\, der auszog\, nur um festzustellen\, dass er der einzige Mann auf dem Spielplatz ist. Sein Programm heißt „Hasenkind – du stinkst“. Sebastian 23 beschäftigt sich am 21.11 in „Cogito\, ergo dumm“ mit den Dummheiten der Menschheit von den Ursprüngen bis in die Gegenwart. Der Stand-upComedian Quichotte trägt am 18.11 das Herz auf der Zunge. Und diese wiederum lauert hinter einem extrem verzogenen Gebiss. Schlicht „Fresse“ lautet sein Programm. Außerdem hat Dave Davis (5.12)\, der „Sunshine-Generator“ der deutschen Kabarett- und Comedy-Szene\, sein als Liveshow getarntes Soforthilfepaket für Deutschland pickepackevoll geschnürt: Herzlich willkommen zu „Ruhig\, Brauner! – Demokratie ist nichts für Lappen“. Am 12.12. ist die nach eigenem Bekunden fitteste Band der Welt zu Gast: Reis against the Spülmaschine. Das komplette Programm unter www.zweischlingen-gastro.de
URL:https://www.kunstrasen-magazin.de/event/zweischlingen/
LOCATION:Zweischlingen
ATTACH;FMTTYPE=image/jpeg:https://www.kunstrasen-magazin.de/wp-content/uploads/2020/09/Foto-Ruhig-Brauner_300dpi-1.jpg
END:VEVENT
END:VCALENDAR