BEGIN:VCALENDAR
VERSION:2.0
PRODID:-//Kunstrasen - ECPv5.9.1//NONSGML v1.0//EN
CALSCALE:GREGORIAN
METHOD:PUBLISH
X-WR-CALNAME:Kunstrasen
X-ORIGINAL-URL:https://www.kunstrasen-magazin.de
X-WR-CALDESC:Veranstaltungen für Kunstrasen
BEGIN:VTIMEZONE
TZID:Europe/Berlin
BEGIN:DAYLIGHT
TZOFFSETFROM:+0100
TZOFFSETTO:+0200
TZNAME:CEST
DTSTART:20230326T010000
END:DAYLIGHT
BEGIN:STANDARD
TZOFFSETFROM:+0200
TZOFFSETTO:+0100
TZNAME:CET
DTSTART:20231029T010000
END:STANDARD
END:VTIMEZONE
BEGIN:VEVENT
DTSTART;TZID=Europe/Berlin:20230922T200000
DTEND;TZID=Europe/Berlin:20230922T200000
DTSTAMP:20260420T142521
CREATED:20230824T130012Z
LAST-MODIFIED:20230824T130012Z
UID:2034-1695412800-1695412800@www.kunstrasen-magazin.de
SUMMARY:ZIRKUS BERLIN
DESCRIPTION:Arnulf Rating\nMit Tempo und hohem Unterhaltungswert brilliert hier eine der dienstältesten scharfen Zungen des Landes. Der letzte der legendären 3 Tornados\, der auf der Bühne steht. Er weiß\, woher der Wind weht. Sein Maßstab: Unterhaltung mit Haltung. Gerade\, wenn es stürmisch wird.
URL:https://www.kunstrasen-magazin.de/event/zirkus-berlin/
LOCATION:FZZ Stieghorst
ATTACH;FMTTYPE=image/jpeg:https://www.kunstrasen-magazin.de/wp-content/uploads/2023/08/22_Arnulf_RatingcChristian-Schulz-scaled.jpg
END:VEVENT
END:VCALENDAR