BEGIN:VCALENDAR
VERSION:2.0
PRODID:-//Kunstrasen - ECPv5.9.1//NONSGML v1.0//EN
CALSCALE:GREGORIAN
METHOD:PUBLISH
X-WR-CALNAME:Kunstrasen
X-ORIGINAL-URL:https://www.kunstrasen-magazin.de
X-WR-CALDESC:Veranstaltungen für Kunstrasen
BEGIN:VTIMEZONE
TZID:Europe/Berlin
BEGIN:DAYLIGHT
TZOFFSETFROM:+0100
TZOFFSETTO:+0200
TZNAME:CEST
DTSTART:20240331T010000
END:DAYLIGHT
BEGIN:STANDARD
TZOFFSETFROM:+0200
TZOFFSETTO:+0100
TZNAME:CET
DTSTART:20241027T010000
END:STANDARD
END:VTIMEZONE
BEGIN:VEVENT
DTSTART;TZID=Europe/Berlin:20240321T200000
DTEND;TZID=Europe/Berlin:20240321T200000
DTSTAMP:20260422T125652
CREATED:20230825T130222Z
LAST-MODIFIED:20230825T130222Z
UID:2317-1711051200-1711051200@www.kunstrasen-magazin.de
SUMMARY:YALLAH HOPP!
DESCRIPTION:Bülent Ceylan\n„Yallah Hopp!“ Das versteht jeder\, egal ob Migrations- oder Kurpfalzhintergrund. Und selbst der Oxford-Deutsche begreift sofort: Bei Bülent Ceylan herrscht Aufbruchstimmung. Corona ist besiegt\, Prinz Charles endlich König und der Klimawandel kann sich auch schon mal warm anziehen. Der Comedian zeigt den täglichen Hiobsbotschaften den Mittelfinger\, um wieder mit Spaß in die Zukunft zu blicken.
URL:https://www.kunstrasen-magazin.de/event/yallah-hopp/
LOCATION:Stadthalle
END:VEVENT
END:VCALENDAR