BEGIN:VCALENDAR
VERSION:2.0
PRODID:-//Kunstrasen - ECPv5.9.1//NONSGML v1.0//EN
CALSCALE:GREGORIAN
METHOD:PUBLISH
X-WR-CALNAME:Kunstrasen
X-ORIGINAL-URL:https://www.kunstrasen-magazin.de
X-WR-CALDESC:Veranstaltungen für Kunstrasen
BEGIN:VTIMEZONE
TZID:Europe/Berlin
BEGIN:DAYLIGHT
TZOFFSETFROM:+0100
TZOFFSETTO:+0200
TZNAME:CEST
DTSTART:20240331T010000
END:DAYLIGHT
BEGIN:STANDARD
TZOFFSETFROM:+0200
TZOFFSETTO:+0100
TZNAME:CET
DTSTART:20241027T010000
END:STANDARD
END:VTIMEZONE
BEGIN:VEVENT
DTSTART;TZID=Europe/Berlin:20240316T200000
DTEND;TZID=Europe/Berlin:20240316T200000
DTSTAMP:20260422T162527
CREATED:20230825T125706Z
LAST-MODIFIED:20230825T125706Z
UID:2311-1710619200-1710619200@www.kunstrasen-magazin.de
SUMMARY:VOLLER VERVE UND ESPRIT
DESCRIPTION:Lucas & Arthur Jussen\nArthur und Lucas Jussen – eines der besten Klavierduos der Welt – sind seit frühster Kindheit ein Dreamteam und begeistern mit ihren frischen Interpretationen voller Verve und Esprit. Dass das Klavier ein Rhythmusinstrument ist\, stellen die Brüder\, begleitet vom WDR-Sinfonieorchester Köln\, in Bartoks Konzert unter Beweis. Gerahmt wird dieser rasante Auftritt durch zwei Werke: Antonín Dvořáks bildreiche Legenden und die heitere zweite Sinfonie von Johannes Brahms\, die seit ihrer Uraufführung zu seinen beliebtesten Werken gehört.
URL:https://www.kunstrasen-magazin.de/event/voller-verve-und-esprit/
LOCATION:Rudolf-Oetker-Halle
ATTACH;FMTTYPE=image/jpeg:https://www.kunstrasen-magazin.de/wp-content/uploads/2023/08/16_Lucas-und-Arthur-JussencMarco-Borggreve-scaled.jpg
END:VEVENT
END:VCALENDAR