BEGIN:VCALENDAR
VERSION:2.0
PRODID:-//Kunstrasen - ECPv5.9.1//NONSGML v1.0//EN
CALSCALE:GREGORIAN
METHOD:PUBLISH
X-WR-CALNAME:Kunstrasen
X-ORIGINAL-URL:https://www.kunstrasen-magazin.de
X-WR-CALDESC:Veranstaltungen für Kunstrasen
BEGIN:VTIMEZONE
TZID:Europe/Berlin
BEGIN:DAYLIGHT
TZOFFSETFROM:+0100
TZOFFSETTO:+0200
TZNAME:CEST
DTSTART:20230326T010000
END:DAYLIGHT
BEGIN:STANDARD
TZOFFSETFROM:+0200
TZOFFSETTO:+0100
TZNAME:CET
DTSTART:20231029T010000
END:STANDARD
END:VTIMEZONE
BEGIN:VEVENT
DTSTART;TZID=Europe/Berlin:20231004T190000
DTEND;TZID=Europe/Berlin:20231004T190000
DTSTAMP:20260420T094910
CREATED:20230824T131748Z
LAST-MODIFIED:20230824T131748Z
UID:2058-1696446000-1696446000@www.kunstrasen-magazin.de
SUMMARY:VIVALDI MEETS PIAZZOLLA
DESCRIPTION:Hamburg Stage Ensemble\nKaum ein Werk erfreut sich einer solchen Popularität wie Vivaldis „Vier Jahreszeiten“\, dessen bildhafte Tonsprache die Naturereignisse\, Wetterphänomene und Stimmungen der einzelnen Jahreszeiten widerspiegelt. Astor Piazzolla\, Begründer des „Tango nuevo“\, stellt in seiner Version das Leben der Menschen in den Mittelpunkt.
URL:https://www.kunstrasen-magazin.de/event/vivaldi-meets-piazzolla/
LOCATION:Rudolf-Oetker-Halle
END:VEVENT
END:VCALENDAR