BEGIN:VCALENDAR
VERSION:2.0
PRODID:-//Kunstrasen - ECPv5.9.1//NONSGML v1.0//EN
CALSCALE:GREGORIAN
METHOD:PUBLISH
X-WR-CALNAME:Kunstrasen
X-ORIGINAL-URL:https://www.kunstrasen-magazin.de
X-WR-CALDESC:Veranstaltungen für Kunstrasen
BEGIN:VTIMEZONE
TZID:Europe/Berlin
BEGIN:DAYLIGHT
TZOFFSETFROM:+0100
TZOFFSETTO:+0200
TZNAME:CEST
DTSTART:20240331T010000
END:DAYLIGHT
BEGIN:STANDARD
TZOFFSETFROM:+0200
TZOFFSETTO:+0100
TZNAME:CET
DTSTART:20241027T010000
END:STANDARD
END:VTIMEZONE
BEGIN:VEVENT
DTSTART;TZID=Europe/Berlin:20240309T210000
DTEND;TZID=Europe/Berlin:20240309T210000
DTSTAMP:20260420T173727
CREATED:20230825T123857Z
LAST-MODIFIED:20230825T123857Z
UID:2294-1710018000-1710018000@www.kunstrasen-magazin.de
SUMMARY:ÜBERRAGEND
DESCRIPTION:David Kebekus\nHandgemachtes Material\, auf Open Mics erarbeitet\, ausgefeilt und mit Selbstironie und Herzblut befüllt. Die reinste Form der Unterhaltung. Feinste Standup-Comedy nach amerikanischem Vorbild.
URL:https://www.kunstrasen-magazin.de/event/ueberragend/
LOCATION:Zweischlingen
ATTACH;FMTTYPE=image/jpeg:https://www.kunstrasen-magazin.de/wp-content/uploads/2023/08/9_David-Kebekus-Copyright-fabian-stuertz--scaled.jpg
END:VEVENT
END:VCALENDAR