BEGIN:VCALENDAR
VERSION:2.0
PRODID:-//Kunstrasen - ECPv5.9.1//NONSGML v1.0//EN
CALSCALE:GREGORIAN
METHOD:PUBLISH
X-WR-CALNAME:Kunstrasen
X-ORIGINAL-URL:https://www.kunstrasen-magazin.de
X-WR-CALDESC:Veranstaltungen für Kunstrasen
BEGIN:VTIMEZONE
TZID:Europe/Berlin
BEGIN:DAYLIGHT
TZOFFSETFROM:+0100
TZOFFSETTO:+0200
TZNAME:CEST
DTSTART:20240331T010000
END:DAYLIGHT
BEGIN:STANDARD
TZOFFSETFROM:+0200
TZOFFSETTO:+0100
TZNAME:CET
DTSTART:20241027T010000
END:STANDARD
END:VTIMEZONE
BEGIN:VEVENT
DTSTART;TZID=Europe/Berlin:20240313T200000
DTEND;TZID=Europe/Berlin:20240313T200000
DTSTAMP:20260422T231330
CREATED:20230822T111258Z
LAST-MODIFIED:20230822T111258Z
UID:1782-1710360000-1710360000@www.kunstrasen-magazin.de
SUMMARY:Torsten Sträter
DESCRIPTION:„Es ist die Siebträgermaschine unter den Programmen: Druck\, Dampf\, Glanz\, Aroma – alles drin! Plus die großen Fragen des Seins\, die da lauten: Wie führe ich ein gutes Leben? Was kommt danach? Wie lauten die besten sechs der vier großen mathematischen Regeln? Beleuchten wir alles\, und zwar nach dem bewährten Muster: zu albern für Kabarett\, für Comedy aber ganz clever\, ein schöner\, sich wölbender Abend\, Kaffee\, Geschichten … bis ich den Faden verliere\, und dann schauen wir mal.“ Genau so wie Torsten Sträter sein neues Programm „Mach mal das große Licht an“ ankündigt\, funktionieren die Abende mit dem vielleicht wunderbarsten Plauderer unter den Comedians. \n 
URL:https://www.kunstrasen-magazin.de/event/torsten-straeter-2/
LOCATION:Stadthalle
ATTACH;FMTTYPE=image/jpeg:https://www.kunstrasen-magazin.de/wp-content/uploads/2023/08/Torsten-SträtercGuido-Schröder.jpg
END:VEVENT
END:VCALENDAR