BEGIN:VCALENDAR
VERSION:2.0
PRODID:-//Kunstrasen - ECPv5.9.1//NONSGML v1.0//EN
CALSCALE:GREGORIAN
METHOD:PUBLISH
X-WR-CALNAME:Kunstrasen
X-ORIGINAL-URL:https://www.kunstrasen-magazin.de
X-WR-CALDESC:Veranstaltungen für Kunstrasen
BEGIN:VTIMEZONE
TZID:Europe/Berlin
BEGIN:DAYLIGHT
TZOFFSETFROM:+0100
TZOFFSETTO:+0200
TZNAME:CEST
DTSTART:20210328T010000
END:DAYLIGHT
BEGIN:STANDARD
TZOFFSETFROM:+0200
TZOFFSETTO:+0100
TZNAME:CET
DTSTART:20211031T010000
END:STANDARD
END:VTIMEZONE
BEGIN:VEVENT
DTSTART;TZID=Europe/Berlin:20210511T200000
DTEND;TZID=Europe/Berlin:20210511T200000
DTSTAMP:20260421T160201
CREATED:20200921T115225Z
LAST-MODIFIED:20200921T115225Z
UID:166-1620763200-1620763200@www.kunstrasen-magazin.de
SUMMARY:The Twiolins
DESCRIPTION:PROGRESSIVE CLASSICAL MUSIC \nMusik am Puls der Zeit – abenteuerlustig und wild\, unangepasst und zugleich universell verständlich. Die Twiolins bringen frischen Wind in die Klassikszene. Seit ihrem 12. Lebensjahr musizieren die Geschwister gemeinsam und zählen zu den Pionieren der neuen Strömung „progressive classical music“. Ohr-verwöhnende Harmonik\, weitgreifende Melodielinien und exzentrisch pulsierende Rhythmen sind das Markenzeichen des Violinduos\, das Klassik\, Avantgarde\, Minimal Music und Art-Pop zu einem rauschenden Klangkosmos verschmilzt.
URL:https://www.kunstrasen-magazin.de/event/the-twiolins/
LOCATION:FOYER DER RUDOLFOETKER-HALLE
ATTACH;FMTTYPE=image/jpeg:https://www.kunstrasen-magazin.de/wp-content/uploads/2020/09/24-TwiolinscChristoph-Asmus.jpg
END:VEVENT
END:VCALENDAR