BEGIN:VCALENDAR
VERSION:2.0
PRODID:-//Kunstrasen - ECPv5.9.1//NONSGML v1.0//EN
CALSCALE:GREGORIAN
METHOD:PUBLISH
X-WR-CALNAME:Kunstrasen
X-ORIGINAL-URL:https://www.kunstrasen-magazin.de
X-WR-CALDESC:Veranstaltungen für Kunstrasen
BEGIN:VTIMEZONE
TZID:Europe/Berlin
BEGIN:DAYLIGHT
TZOFFSETFROM:+0100
TZOFFSETTO:+0200
TZNAME:CEST
DTSTART:20240331T010000
END:DAYLIGHT
BEGIN:STANDARD
TZOFFSETFROM:+0200
TZOFFSETTO:+0100
TZNAME:CET
DTSTART:20241027T010000
END:STANDARD
END:VTIMEZONE
BEGIN:VEVENT
DTSTART;TZID=Europe/Berlin:20241021T200000
DTEND;TZID=Europe/Berlin:20241021T203000
DTSTAMP:20260421T224117
CREATED:20240826T115248Z
LAST-MODIFIED:20240826T115248Z
UID:2542-1729540800-1729542600@www.kunstrasen-magazin.de
SUMMARY:The Kilkennys
DESCRIPTION:Die Vier-Mann-Frischzellen-Kur des Irish Folk sorgt seit über zwei Jahrzehnten für frischen Wind in der Szene. Ob Eigenkomposition oder Neuinterpretation alter Klassiker – im Zusammenspiel der vier Schulfreunde entsteht regelmäßig eine besondere Magie\, die auch ein junges Publikum für die traditionelle irische Musik begeistert.
URL:https://www.kunstrasen-magazin.de/event/the-kilkennys/
LOCATION:Lokschuppen
ATTACH;FMTTYPE=image/jpeg:https://www.kunstrasen-magazin.de/wp-content/uploads/2024/08/21_The-KilkennyscNiall-Fennessy.jpg
END:VEVENT
END:VCALENDAR