BEGIN:VCALENDAR
VERSION:2.0
PRODID:-//Kunstrasen - ECPv5.9.1//NONSGML v1.0//EN
CALSCALE:GREGORIAN
METHOD:PUBLISH
X-WR-CALNAME:Kunstrasen
X-ORIGINAL-URL:https://www.kunstrasen-magazin.de
X-WR-CALDESC:Veranstaltungen für Kunstrasen
BEGIN:VTIMEZONE
TZID:Europe/Berlin
BEGIN:DAYLIGHT
TZOFFSETFROM:+0100
TZOFFSETTO:+0200
TZNAME:CEST
DTSTART:20240331T010000
END:DAYLIGHT
BEGIN:STANDARD
TZOFFSETFROM:+0200
TZOFFSETTO:+0100
TZNAME:CET
DTSTART:20241027T010000
END:STANDARD
END:VTIMEZONE
BEGIN:VEVENT
DTSTART;TZID=Europe/Berlin:20240910T200000
DTEND;TZID=Europe/Berlin:20240910T200000
DTSTAMP:20260420T143753
CREATED:20240826T074436Z
LAST-MODIFIED:20240826T074525Z
UID:2496-1725998400-1725998400@www.kunstrasen-magazin.de
SUMMARY:The Jakob Manz Project
DESCRIPTION:Die Musiker gehören zu den beliebtesten jungen Jazzer*innen in Deutschland und spielen in der Besetzung Altsaxophon (Jakob Manz)\, Keys (Hannes Stollsteimer)\, Bass (Frieder Klein) und Drums (Leo Asal). Die Musik der Formation ist äußerst präsent\, plastisch\, wie mit den Ohren anfassbar\, klanglich durchdrungen. Aktueller Jazz\, perfekt als Einstieg – und gleichzeitig bestens für Fortgeschrittene geeignet.
URL:https://www.kunstrasen-magazin.de/event/the-jakob-manz-project/
LOCATION:Foyer der Rudolf-Oetker-Halle
ATTACH;FMTTYPE=image/jpeg:https://www.kunstrasen-magazin.de/wp-content/uploads/2024/08/10_The-Jakob-Manz-Project.jpg
END:VEVENT
END:VCALENDAR