BEGIN:VCALENDAR
VERSION:2.0
PRODID:-//Kunstrasen - ECPv5.9.1//NONSGML v1.0//EN
CALSCALE:GREGORIAN
METHOD:PUBLISH
X-WR-CALNAME:Kunstrasen
X-ORIGINAL-URL:https://www.kunstrasen-magazin.de
X-WR-CALDESC:Veranstaltungen für Kunstrasen
BEGIN:VTIMEZONE
TZID:Europe/Berlin
BEGIN:DAYLIGHT
TZOFFSETFROM:+0100
TZOFFSETTO:+0200
TZNAME:CEST
DTSTART:20240331T010000
END:DAYLIGHT
BEGIN:STANDARD
TZOFFSETFROM:+0200
TZOFFSETTO:+0100
TZNAME:CET
DTSTART:20241027T010000
END:STANDARD
END:VTIMEZONE
BEGIN:VEVENT
DTSTART;TZID=Europe/Berlin:20240305T200000
DTEND;TZID=Europe/Berlin:20240305T200000
DTSTAMP:20260420T173732
CREATED:20230822T133434Z
LAST-MODIFIED:20230822T133434Z
UID:1838-1709668800-1709668800@www.kunstrasen-magazin.de
SUMMARY:The 12 Tenors
DESCRIPTION:„MUSIC OF THE WORLD“-TOUR\nEine der erfolgreichsten Tenorformationen der Welt ist zu Gast in Bielefeld. Die 12 Ausnahmesänger nehmen ihr Publikum mit auf eine internationale musikalische Reise und erschaffen mit ihrer neuen Show ein Konzerterlebnis\, das Vergangenheit und Gegenwart verschmelzen lässt – voller Emotionen\, Erinnerungen und Überraschungen. Begleitet von einer Live-Band und umrahmt von einer spektakulären Lichtshow treffen klassische Traditionen auf modernes Boygroup-Feeling\, weltberühmte Arien auf Rock- und Pophymnen und 12 Top-Solisten verschmelzen zu einer fulminanten Einheit. Abgerundet wird dieses Konzerterlebnis mit eindrucksvollen Choreographien\, witzigem Entertainment und charmanten Moderationen. Mit ihrer großen „Music of the World“- Tour feiern The 12 Tenors eine Hommage an Musik\, die Geschichte schrieb\, an Welthits\, die die Menschheit bewegten und ihr unvergessliche Momente bescherten. \n 
URL:https://www.kunstrasen-magazin.de/event/the-12-tenors/
LOCATION:Stadthalle
ATTACH;FMTTYPE=image/jpeg:https://www.kunstrasen-magazin.de/wp-content/uploads/2023/08/HC_12Tenors_Pressebild01cMario-Müller.jpg
END:VEVENT
END:VCALENDAR