BEGIN:VCALENDAR
VERSION:2.0
PRODID:-//Kunstrasen - ECPv5.9.1//NONSGML v1.0//EN
CALSCALE:GREGORIAN
METHOD:PUBLISH
X-WR-CALNAME:Kunstrasen
X-ORIGINAL-URL:https://www.kunstrasen-magazin.de
X-WR-CALDESC:Veranstaltungen für Kunstrasen
BEGIN:VTIMEZONE
TZID:Europe/Berlin
BEGIN:DAYLIGHT
TZOFFSETFROM:+0100
TZOFFSETTO:+0200
TZNAME:CEST
DTSTART:20240331T010000
END:DAYLIGHT
BEGIN:STANDARD
TZOFFSETFROM:+0200
TZOFFSETTO:+0100
TZNAME:CET
DTSTART:20241027T010000
END:STANDARD
END:VTIMEZONE
BEGIN:VEVENT
DTSTART;TZID=Europe/Berlin:20240217T193000
DTEND;TZID=Europe/Berlin:20240217T193000
DTSTAMP:20260420T173731
CREATED:20230825T120934Z
LAST-MODIFIED:20230825T120934Z
UID:2268-1708198200-1708198200@www.kunstrasen-magazin.de
SUMMARY:TANZGASTSPIEL
DESCRIPTION:Moritz Ostruschnjak\nDer Strand kann auch eine Endstation sein. Vereint zwischen Schmerz und Freude treffen verschiedene Menschen aufeinander\, verirren sich in Loops\, surfen umeinander\, verlieren ihren Halt\, schlagen zusammen Wellen\, riskieren fiktive Geschichten\, schwingen gemeinsam Fahnen\, zitieren alte Gewohnheiten\, legen sich in die Kurven\, amüsieren sich in ausgetretenen Pfaden\, erobern brachliegendes Gelände und orientieren sich ständig neu für große und kleine Fluchten.
URL:https://www.kunstrasen-magazin.de/event/tanzgastspiel/
LOCATION:Stadttheater
END:VEVENT
END:VCALENDAR