BEGIN:VCALENDAR
VERSION:2.0
PRODID:-//Kunstrasen - ECPv5.9.1//NONSGML v1.0//EN
CALSCALE:GREGORIAN
METHOD:PUBLISH
X-WR-CALNAME:Kunstrasen
X-ORIGINAL-URL:https://www.kunstrasen-magazin.de
X-WR-CALDESC:Veranstaltungen für Kunstrasen
BEGIN:VTIMEZONE
TZID:Europe/Berlin
BEGIN:DAYLIGHT
TZOFFSETFROM:+0100
TZOFFSETTO:+0200
TZNAME:CEST
DTSTART:20240331T010000
END:DAYLIGHT
BEGIN:STANDARD
TZOFFSETFROM:+0200
TZOFFSETTO:+0100
TZNAME:CET
DTSTART:20241027T010000
END:STANDARD
END:VTIMEZONE
BEGIN:VEVENT
DTSTART;TZID=Europe/Berlin:20240210T210000
DTEND;TZID=Europe/Berlin:20240210T210000
DTSTAMP:20260420T155529
CREATED:20230825T111922Z
LAST-MODIFIED:20230825T111922Z
UID:2265-1707598800-1707598800@www.kunstrasen-magazin.de
SUMMARY:TANNENECKER OUVERTÜRE
DESCRIPTION:Yorick Thiede\nDie natürliche Leichtigkeit seines Storytellings macht jede noch so surreale Geschichte innerhalb von wenigen Sekunden so dreidimensional und erlebbar\, als wäre man selbst vor Ort. Ein fulminantes Debüt.
URL:https://www.kunstrasen-magazin.de/event/tannenecker-ouvertuere/
LOCATION:Zweischlingen
ATTACH;FMTTYPE=image/jpeg:https://www.kunstrasen-magazin.de/wp-content/uploads/2023/08/10_Yorick-Thiede-c-Marvin-Ruppert.jpg
END:VEVENT
END:VCALENDAR