BEGIN:VCALENDAR
VERSION:2.0
PRODID:-//Kunstrasen - ECPv5.9.1//NONSGML v1.0//EN
CALSCALE:GREGORIAN
METHOD:PUBLISH
X-WR-CALNAME:Kunstrasen
X-ORIGINAL-URL:https://www.kunstrasen-magazin.de
X-WR-CALDESC:Veranstaltungen für Kunstrasen
BEGIN:VTIMEZONE
TZID:Europe/Berlin
BEGIN:DAYLIGHT
TZOFFSETFROM:+0100
TZOFFSETTO:+0200
TZNAME:CEST
DTSTART:20230326T010000
END:DAYLIGHT
BEGIN:STANDARD
TZOFFSETFROM:+0200
TZOFFSETTO:+0100
TZNAME:CET
DTSTART:20231029T010000
END:STANDARD
END:VTIMEZONE
BEGIN:VEVENT
DTSTART;TZID=Europe/Berlin:20231103T200000
DTEND;TZID=Europe/Berlin:20231103T200000
DTSTAMP:20260420T080454
CREATED:20230822T125815Z
LAST-MODIFIED:20230822T125815Z
UID:1803-1699041600-1699041600@www.kunstrasen-magazin.de
SUMMARY:SUPERCHUNK
DESCRIPTION:Alte Helden\nDie 1989 in Chapel Hill\, North Carolina\, gegründete Band hat musikalisch seit der Veröffentlichung ihrer ersten 7-Inch im selben Jahr schon so einiges hinter sich: von stampfendem Punkrock bis zu virtuos ausgefeilten Meisterwerken. Längst hat Superchunk Kultstatus erreicht und konnte für das elfte Studioalbum „Wild Loneliness“ ein wahres Staraufgebot präsentieren: Teenage Fanclubs Norman Blake und Mike Mills von R.E.M.\, Wye Oaks Andy Stack und Sharon Van Etten geben sich auf dem 2022 veröffentlichten Album die Ehre. Live darf man sich auf jede Menge Power gefasst machen. \n 
URL:https://www.kunstrasen-magazin.de/event/superchunk/
LOCATION:Forum Bielefeld
ATTACH;FMTTYPE=image/jpeg:https://www.kunstrasen-magazin.de/wp-content/uploads/2023/08/3_11_2023_SuperchunkNEUwbetsy-scaled-1.jpg
END:VEVENT
END:VCALENDAR