BEGIN:VCALENDAR
VERSION:2.0
PRODID:-//Kunstrasen - ECPv5.9.1//NONSGML v1.0//EN
CALSCALE:GREGORIAN
METHOD:PUBLISH
X-WR-CALNAME:Kunstrasen
X-ORIGINAL-URL:https://www.kunstrasen-magazin.de
X-WR-CALDESC:Veranstaltungen für Kunstrasen
BEGIN:VTIMEZONE
TZID:Europe/Berlin
BEGIN:DAYLIGHT
TZOFFSETFROM:+0100
TZOFFSETTO:+0200
TZNAME:CEST
DTSTART:20230326T010000
END:DAYLIGHT
BEGIN:STANDARD
TZOFFSETFROM:+0200
TZOFFSETTO:+0100
TZNAME:CET
DTSTART:20231029T010000
END:STANDARD
END:VTIMEZONE
BEGIN:VEVENT
DTSTART;TZID=Europe/Berlin:20230920T200000
DTEND;TZID=Europe/Berlin:20230920T200000
DTSTAMP:20260420T124849
CREATED:20230824T125714Z
LAST-MODIFIED:20230824T125714Z
UID:2031-1695240000-1695240000@www.kunstrasen-magazin.de
SUMMARY:SPLITTER TOUR
DESCRIPTION:Julia Engelmann\nPoetry Slammerin\, Autorin mehrerer LyrikBestseller\, Illustratorin und Musikerin: Julia Engelmann ist ein echtes Multitalent\, was sie jetzt auf ihrer Tour mit neuer Poesie und Musik beweist.
URL:https://www.kunstrasen-magazin.de/event/splitter-tour/
LOCATION:Lokschuppen
ATTACH;FMTTYPE=image/jpeg:https://www.kunstrasen-magazin.de/wp-content/uploads/2023/08/20_Julia-Engelmann.jpg
END:VEVENT
END:VCALENDAR