BEGIN:VCALENDAR
VERSION:2.0
PRODID:-//Kunstrasen - ECPv5.9.1//NONSGML v1.0//EN
CALSCALE:GREGORIAN
METHOD:PUBLISH
X-WR-CALNAME:Kunstrasen
X-ORIGINAL-URL:https://www.kunstrasen-magazin.de
X-WR-CALDESC:Veranstaltungen für Kunstrasen
BEGIN:VTIMEZONE
TZID:Europe/Berlin
BEGIN:DAYLIGHT
TZOFFSETFROM:+0100
TZOFFSETTO:+0200
TZNAME:CEST
DTSTART:20240331T010000
END:DAYLIGHT
BEGIN:STANDARD
TZOFFSETFROM:+0200
TZOFFSETTO:+0100
TZNAME:CET
DTSTART:20241027T010000
END:STANDARD
END:VTIMEZONE
BEGIN:VEVENT
DTSTART;TZID=Europe/Berlin:20240726T130000
DTEND;TZID=Europe/Berlin:20240728T220000
DTSTAMP:20260420T094844
CREATED:20230824T141734Z
LAST-MODIFIED:20230824T141734Z
UID:2111-1721998800-1722204000@www.kunstrasen-magazin.de
SUMMARY:Sparrenburgfest
DESCRIPTION:MITTELALTER SPEKTAKEL\nAm letzten Juli-Wochenende nehmen Ritter\, Knechte\, holde Damen und allerlei andere Gestalten die Gäste der Sparrenburg mit auf eine Zeitreise\nins Mittelalter. Der bunte „Tross der Vogelfreien“ hält Einzug mit Handwerk und Handel\, Spielmannskunst und Gaukelei\, Rittern\, Edeldamen und Wunderkrämern. \nSparrenburg\, 13:00-22:00 Uhr (Fr.)\, 11:00-22:00 Uhr (Sa.)\, 11:00-21:00 Uhr (So.)
URL:https://www.kunstrasen-magazin.de/event/sparrenburgfest/
LOCATION:Sparrenburg
ATTACH;FMTTYPE=image/jpeg:https://www.kunstrasen-magazin.de/wp-content/uploads/2023/08/26_SparrenburgfestcSarah-Jonek-scaled.jpg
END:VEVENT
END:VCALENDAR