BEGIN:VCALENDAR
VERSION:2.0
PRODID:-//Kunstrasen - ECPv5.9.1//NONSGML v1.0//EN
CALSCALE:GREGORIAN
METHOD:PUBLISH
X-WR-CALNAME:Kunstrasen
X-ORIGINAL-URL:https://www.kunstrasen-magazin.de
X-WR-CALDESC:Veranstaltungen für Kunstrasen
BEGIN:VTIMEZONE
TZID:Europe/Berlin
BEGIN:DAYLIGHT
TZOFFSETFROM:+0100
TZOFFSETTO:+0200
TZNAME:CEST
DTSTART:20230326T010000
END:DAYLIGHT
BEGIN:STANDARD
TZOFFSETFROM:+0200
TZOFFSETTO:+0100
TZNAME:CET
DTSTART:20231029T010000
END:STANDARD
END:VTIMEZONE
BEGIN:VEVENT
DTSTART;TZID=Europe/Berlin:20231103T190000
DTEND;TZID=Europe/Berlin:20231103T190000
DTSTAMP:20260420T094747
CREATED:20230824T141353Z
LAST-MODIFIED:20230824T141353Z
UID:2104-1699038000-1699038000@www.kunstrasen-magazin.de
SUMMARY:SONGWRITER-PUNK
DESCRIPTION:Grundhass\nGrundhass? Ist der Name tatsächlich Programm\, wenn da ein sympathischer Typ mit Akustikgitarre und einem Hawaii-Hemd\, für das Jürgen von der Lippe vielleicht sogar einen Mord begehen würde\, die Bühne betritt und seine melodischen Hymnen mit teils absurden Texten aufführt? Es lebe die Irritation\, es lebe die erschütterte Erwartung.
URL:https://www.kunstrasen-magazin.de/event/songwriter-punk/
LOCATION:Fairticken
END:VEVENT
END:VCALENDAR