BEGIN:VCALENDAR
VERSION:2.0
PRODID:-//Kunstrasen - ECPv5.9.1//NONSGML v1.0//EN
CALSCALE:GREGORIAN
METHOD:PUBLISH
X-WR-CALNAME:Kunstrasen
X-ORIGINAL-URL:https://www.kunstrasen-magazin.de
X-WR-CALDESC:Veranstaltungen für Kunstrasen
BEGIN:VTIMEZONE
TZID:Europe/Berlin
BEGIN:DAYLIGHT
TZOFFSETFROM:+0100
TZOFFSETTO:+0200
TZNAME:CEST
DTSTART:20210328T010000
END:DAYLIGHT
BEGIN:STANDARD
TZOFFSETFROM:+0200
TZOFFSETTO:+0100
TZNAME:CET
DTSTART:20211031T010000
END:STANDARD
END:VTIMEZONE
BEGIN:VEVENT
DTSTART;TZID=Europe/Berlin:20210307T200000
DTEND;TZID=Europe/Berlin:20210307T200000
DTSTAMP:20260421T025401
CREATED:20200921T123743Z
LAST-MODIFIED:20200921T123743Z
UID:228-1615147200-1615147200@www.kunstrasen-magazin.de
SUMMARY:Simple Minds
DESCRIPTION:CELEBRATING 40 YEARS OF HITS \nDon’t You (Forget About Me)“ – das dürfte einer Band\, die so einen Überhit gelandet hat\, wohl kaum passieren. Außerdem haben es die Simple Minds geschafft\, sich in den letzten 40 Jahren immer wieder neu zu erfinden. Oder um es mit den Worten von Jim Kerr zu sagen: „Ich bin immer sehr stolz\, wenn die Leute fragen: Welche Simple Minds meinst du? Die Avantgarde\, die Art-Rocker\, die Popband\, das Ambient-Projekt\, die Instrumentalgruppe\, die politischen Texter\, die Folker\, die Stadionrocker? All diese Stile gleichzeitig zu beherrschen\, war immer die Quintessenz der Simple Minds.“ Viel Stoff also für ihr Jubiläum\, das sie jetzt mit einem Best-of aus allen Dekaden feiern.
URL:https://www.kunstrasen-magazin.de/event/simple-minds/
LOCATION:LOKSCHUPPEN
ATTACH;FMTTYPE=image/jpeg:https://www.kunstrasen-magazin.de/wp-content/uploads/2020/09/Simple-MindscDean-Chalkley-scaled.jpg
END:VEVENT
END:VCALENDAR