BEGIN:VCALENDAR
VERSION:2.0
PRODID:-//Kunstrasen - ECPv5.9.1//NONSGML v1.0//EN
CALSCALE:GREGORIAN
METHOD:PUBLISH
X-WR-CALNAME:Kunstrasen
X-ORIGINAL-URL:https://www.kunstrasen-magazin.de
X-WR-CALDESC:Veranstaltungen für Kunstrasen
BEGIN:VTIMEZONE
TZID:Europe/Berlin
BEGIN:DAYLIGHT
TZOFFSETFROM:+0100
TZOFFSETTO:+0200
TZNAME:CEST
DTSTART:20230326T010000
END:DAYLIGHT
BEGIN:STANDARD
TZOFFSETFROM:+0200
TZOFFSETTO:+0100
TZNAME:CET
DTSTART:20231029T010000
END:STANDARD
END:VTIMEZONE
BEGIN:VEVENT
DTSTART;TZID=Europe/Berlin:20231110T200000
DTEND;TZID=Europe/Berlin:20231110T200000
DTSTAMP:20260420T094614
CREATED:20230824T142618Z
LAST-MODIFIED:20230824T142618Z
UID:2129-1699646400-1699646400@www.kunstrasen-magazin.de
SUMMARY:RUMEIERN
DESCRIPTION:Nessie Tausendschön\nEigentlich hatte es sich Frau Tausendschön in der Lethargie schön eingerichtet und sich vorgenommen\, mit dem Corona-Hündchen und der wegen exzessiven Genusskochens und Brotbackens fortgeschrittenen Verfettung der Verrentung entgegen zu dämmern. Aber\, zum Glück für ihre Publikum\, steht sie doch wieder auf der Bühne und bringt dort eine weit verbreitete Tätigkeit zur Perfektion: das Rumeiern.
URL:https://www.kunstrasen-magazin.de/event/rumeiern/
LOCATION:Neue Schmiede
END:VEVENT
END:VCALENDAR