BEGIN:VCALENDAR
VERSION:2.0
PRODID:-//Kunstrasen - ECPv5.9.1//NONSGML v1.0//EN
CALSCALE:GREGORIAN
METHOD:PUBLISH
X-WR-CALNAME:Kunstrasen
X-ORIGINAL-URL:https://www.kunstrasen-magazin.de
X-WR-CALDESC:Veranstaltungen für Kunstrasen
BEGIN:VTIMEZONE
TZID:Europe/Berlin
BEGIN:DAYLIGHT
TZOFFSETFROM:+0100
TZOFFSETTO:+0200
TZNAME:CEST
DTSTART:20210328T010000
END:DAYLIGHT
BEGIN:STANDARD
TZOFFSETFROM:+0200
TZOFFSETTO:+0100
TZNAME:CET
DTSTART:20211031T010000
END:STANDARD
END:VTIMEZONE
BEGIN:VEVENT
DTSTART;TZID=Europe/Berlin:20210115T193000
DTEND;TZID=Europe/Berlin:20210115T193000
DTSTAMP:20260420T175132
CREATED:20200921T145705Z
LAST-MODIFIED:20200921T145705Z
UID:249-1610739000-1610739000@www.kunstrasen-magazin.de
SUMMARY:„Rotkäppchen raucht auf dem Balkon“
DESCRIPTION:WLADIMIR KAMINER \nRussendisko trifft Rotkäppchen – Wladimir Kaminer hat im Jahr 2000 mit „Russendisko“ sein Debüt gegeben und ist nun zu seinem 20-jährigen Autorenjubiläum mit „Rotkäppchen raucht auf dem Balkon“ auf Tour. Wie immer mit herrlich kurzweiligen Geschichten\, die die davon berichten\, wie das Leben generationsübergreifend zur Herausforderung werden kann. Es ist Zeit auch der älteren Generation etwas zurückzugeben\, etwa ein Smartphone. Schließlich möchte die Oma auch Selfies machen oder Fotos von der Katze. Gesagt\, getan. Aber die Technik hat ihre Tücken … Live zu erleben ist Kaminer mit seinem sage und schreibe 28. Buch in Bielefeld.
URL:https://www.kunstrasen-magazin.de/event/rotkaeppchen-raucht-auf-dem-balkon/
LOCATION:LOKSCHUPPEN
ATTACH;FMTTYPE=image/jpeg:https://www.kunstrasen-magazin.de/wp-content/uploads/2020/09/Kaminer_Random_01_Michael_Ihle-scaled.jpg
END:VEVENT
END:VCALENDAR