BEGIN:VCALENDAR
VERSION:2.0
PRODID:-//Kunstrasen - ECPv5.9.1//NONSGML v1.0//EN
CALSCALE:GREGORIAN
METHOD:PUBLISH
X-WR-CALNAME:Kunstrasen
X-ORIGINAL-URL:https://www.kunstrasen-magazin.de
X-WR-CALDESC:Veranstaltungen für Kunstrasen
BEGIN:VTIMEZONE
TZID:Europe/Berlin
BEGIN:DAYLIGHT
TZOFFSETFROM:+0100
TZOFFSETTO:+0200
TZNAME:CEST
DTSTART:20230326T010000
END:DAYLIGHT
BEGIN:STANDARD
TZOFFSETFROM:+0200
TZOFFSETTO:+0100
TZNAME:CET
DTSTART:20231029T010000
END:STANDARD
END:VTIMEZONE
BEGIN:VEVENT
DTSTART;TZID=Europe/Berlin:20230903T140000
DTEND;TZID=Europe/Berlin:20230903T180000
DTSTAMP:20260420T175346
CREATED:20230822T115648Z
LAST-MODIFIED:20230822T115648Z
UID:1788-1693749600-1693764000@www.kunstrasen-magazin.de
SUMMARY:RadKulTour
DESCRIPTION:Wenn Fahrradklingeln für Applaus steht\, dann ist wieder die längste Kulturbühne Bielefelds „aufgebaut“. Die dritte Auflage der RadKulTour führt in den Süden der Stadt. Mit dem Veranstaltungsformat setzt das Kulturamt zusammen mit Bielefelder Künstler*innen\, Kreativen und Kulturinitiativen erneut ein Zeichen für die beindruckende Vielfalt der lokalen Kulturszene und für ein starkes Umweltbewusstsein. Auf der rund 18 Kilometer langen Radroute treten an bis zu 60 Orten lokale Künstler*innen aus verschiedenen Sparten auf: von Performances am Bullerbach bis zu Musik und Theater am Jugendlandheim Greten Venn. Übrigens: Die Tour für September 2024 ist bereits in Planung\, auch sie wird durch Sennestadt fahren. \nwww.kulturamt-bielefeld.de \n 
URL:https://www.kunstrasen-magazin.de/event/radkultour-2/
LOCATION:Sennestadt
ATTACH;FMTTYPE=image/jpeg:https://www.kunstrasen-magazin.de/wp-content/uploads/2023/08/RadKulTour.jpg
END:VEVENT
END:VCALENDAR