BEGIN:VCALENDAR
VERSION:2.0
PRODID:-//Kunstrasen - ECPv5.9.1//NONSGML v1.0//EN
CALSCALE:GREGORIAN
METHOD:PUBLISH
X-WR-CALNAME:Kunstrasen
X-ORIGINAL-URL:https://www.kunstrasen-magazin.de
X-WR-CALDESC:Veranstaltungen für Kunstrasen
BEGIN:VTIMEZONE
TZID:Europe/Berlin
BEGIN:DAYLIGHT
TZOFFSETFROM:+0100
TZOFFSETTO:+0200
TZNAME:CEST
DTSTART:20230326T010000
END:DAYLIGHT
BEGIN:STANDARD
TZOFFSETFROM:+0200
TZOFFSETTO:+0100
TZNAME:CET
DTSTART:20231029T010000
END:STANDARD
END:VTIMEZONE
BEGIN:VEVENT
DTSTART;TZID=Europe/Berlin:20231110T153000
DTEND;TZID=Europe/Berlin:20231110T170000
DTSTAMP:20260420T112654
CREATED:20230824T142259Z
LAST-MODIFIED:20230824T142259Z
UID:2118-1699630200-1699635600@www.kunstrasen-magazin.de
SUMMARY:PREMIERE: THEATERWERKSTATT BETHEL
DESCRIPTION:Die Tollkühnen\nViele kennen die Geschichte von der Goldmarie und der Pechmarie\, die von Frau Holle für ihre Hilfsbereitschaft belohnt\, bzw. für ihre Faulheit bestraft werden. Die Tollkühnen feiern mit dem schönen Märchen in der vorwinterlichen Zeit Premiere.
URL:https://www.kunstrasen-magazin.de/event/premiere-theaterwerkstatt-bethel/
LOCATION:Begegnungszentrum Brackwede
ATTACH;FMTTYPE=image/jpeg:https://www.kunstrasen-magazin.de/wp-content/uploads/2023/08/10_Nessi-TausendschöncCarsten-Bockermann.jpeg
END:VEVENT
END:VCALENDAR