BEGIN:VCALENDAR
VERSION:2.0
PRODID:-//Kunstrasen - ECPv5.9.1//NONSGML v1.0//EN
CALSCALE:GREGORIAN
METHOD:PUBLISH
X-WR-CALNAME:Kunstrasen
X-ORIGINAL-URL:https://www.kunstrasen-magazin.de
X-WR-CALDESC:Veranstaltungen für Kunstrasen
BEGIN:VTIMEZONE
TZID:Europe/Berlin
BEGIN:DAYLIGHT
TZOFFSETFROM:+0100
TZOFFSETTO:+0200
TZNAME:CEST
DTSTART:20240331T010000
END:DAYLIGHT
BEGIN:STANDARD
TZOFFSETFROM:+0200
TZOFFSETTO:+0100
TZNAME:CET
DTSTART:20241027T010000
END:STANDARD
END:VTIMEZONE
BEGIN:VEVENT
DTSTART;TZID=Europe/Berlin:20240113T193000
DTEND;TZID=Europe/Berlin:20240113T193000
DTSTAMP:20260420T142731
CREATED:20230825T102938Z
LAST-MODIFIED:20230825T102938Z
UID:2233-1705174200-1705174200@www.kunstrasen-magazin.de
SUMMARY:PREMIERE: JOËL POMMERAT
DESCRIPTION:Die Wiedervereinigung der beiden Koreas\nSich begegnen und wieder verlieren\, das große Glück finden oder den Schmerz. Kaleidoskopartig macht der Autor die komischen wie tragischen Aspekte der Liebe erlebbar und regt zum Lachen\, Leiden und Mitfühlen an.
URL:https://www.kunstrasen-magazin.de/event/premiere-joel-pommerat/
LOCATION:Theater am Alten Markt
END:VEVENT
END:VCALENDAR