BEGIN:VCALENDAR
VERSION:2.0
PRODID:-//Kunstrasen - ECPv5.9.1//NONSGML v1.0//EN
CALSCALE:GREGORIAN
METHOD:PUBLISH
X-WR-CALNAME:Kunstrasen
X-ORIGINAL-URL:https://www.kunstrasen-magazin.de
X-WR-CALDESC:Veranstaltungen für Kunstrasen
BEGIN:VTIMEZONE
TZID:Europe/Berlin
BEGIN:DAYLIGHT
TZOFFSETFROM:+0100
TZOFFSETTO:+0200
TZNAME:CEST
DTSTART:20240331T010000
END:DAYLIGHT
BEGIN:STANDARD
TZOFFSETFROM:+0200
TZOFFSETTO:+0100
TZNAME:CET
DTSTART:20241027T010000
END:STANDARD
END:VTIMEZONE
BEGIN:VEVENT
DTSTART;TZID=Europe/Berlin:20240113T150000
DTEND;TZID=Europe/Berlin:20240113T150000
DTSTAMP:20260420T124453
CREATED:20230822T102124Z
LAST-MODIFIED:20230822T102124Z
UID:1751-1705158000-1705158000@www.kunstrasen-magazin.de
SUMMARY:PERFORMATIVE RAUMINSTALLATION
DESCRIPTION:there’s a needle in my brain\nIm November 2018 erlitt die Künstlerin Raphaela Kula eine lebensbedrohliche Hirnblutung. Diese ist Ausgangspunkt für Annäherungen an eine neue persönliche Realität: Persönliches findet eine Abstraktion und Verallgemeinerung. Themen wie Tod\, Angst\, Sorge\, Versehrtheit\, aber auch Willenskraft\, Anstrengung\, Gesundung\, Krise\, Vision werden bearbeitet. Krise (Corona\, Krieg\, Existenzangst…) ist gerade in vielerlei Hinsicht Alltag für die unterschiedlichsten Menschen. Sie kämpfen mit Problemen und Angst\, die bewältigt werden muss. Die performative Rauminstallation ist eine etwas andere Annäherung an etwas Grundsätzliches; ein künstlerischer Beitrag\, der sich mit Angst\, Diversität\, Wünschen in vielfältiger Weise auseinandersetzt. Die Installation beinhaltet Foto\, Film\, Text\, Musik\, Objekte und wissenschaftliche Anteile und entstand in Kooperation mit Ria Reed\, Yuri Birte Anderson und Kyungwon Shin. Hinweis: Der Ort ist barrierefrei\, zugänglich\, frei\, geschützt\, Öffentlichkeit und Intimität möglich; es sind zusätzliche Termine nach Anmeldung möglich. \n 
URL:https://www.kunstrasen-magazin.de/event/performative-rauminstallation/
LOCATION:BBK-Atelier\, Ravensberger Spinnerei
END:VEVENT
END:VCALENDAR