BEGIN:VCALENDAR
VERSION:2.0
PRODID:-//Kunstrasen - ECPv5.9.1//NONSGML v1.0//EN
CALSCALE:GREGORIAN
METHOD:PUBLISH
X-WR-CALNAME:Kunstrasen
X-ORIGINAL-URL:https://www.kunstrasen-magazin.de
X-WR-CALDESC:Veranstaltungen für Kunstrasen
BEGIN:VTIMEZONE
TZID:Europe/Berlin
BEGIN:DAYLIGHT
TZOFFSETFROM:+0100
TZOFFSETTO:+0200
TZNAME:CEST
DTSTART:20230326T010000
END:DAYLIGHT
BEGIN:STANDARD
TZOFFSETFROM:+0200
TZOFFSETTO:+0100
TZNAME:CET
DTSTART:20231029T010000
END:STANDARD
END:VTIMEZONE
BEGIN:VEVENT
DTSTART;TZID=Europe/Berlin:20230919T203000
DTEND;TZID=Europe/Berlin:20230919T203000
DTSTAMP:20260420T111947
CREATED:20230824T125445Z
LAST-MODIFIED:20230824T125445Z
UID:2028-1695155400-1695155400@www.kunstrasen-magazin.de
SUMMARY:MULTITALENT
DESCRIPTION:Kid Be Kid\nWenn die Berliner Musikerin simultan singt\, Klavier und Synths spielt und human-beatboxed\, taucht schon mal die Frage auf: Wie macht sie das nur?! Woher nimmt sie diese unfassbare Kraft? Mit so einer fast traumwandlerischen Stilsicherheit? Es gibt jazzy Pianos\, crispy R&BGrooves\, clubtaugliche Sci-Fi-Synth-Flächen und Electronic-Patterns und on top: ihr expressiver Soul-Gesang.
URL:https://www.kunstrasen-magazin.de/event/multitalent/
LOCATION:Bunker Ulmenwall
ATTACH;FMTTYPE=image/jpeg:https://www.kunstrasen-magazin.de/wp-content/uploads/2023/08/19_Kid-be-Kid.jpg
END:VEVENT
END:VCALENDAR