BEGIN:VCALENDAR
VERSION:2.0
PRODID:-//Kunstrasen - ECPv5.9.1//NONSGML v1.0//EN
CALSCALE:GREGORIAN
METHOD:PUBLISH
X-WR-CALNAME:Kunstrasen
X-ORIGINAL-URL:https://www.kunstrasen-magazin.de
X-WR-CALDESC:Veranstaltungen für Kunstrasen
BEGIN:VTIMEZONE
TZID:Europe/Berlin
BEGIN:DAYLIGHT
TZOFFSETFROM:+0100
TZOFFSETTO:+0200
TZNAME:CEST
DTSTART:20230326T010000
END:DAYLIGHT
BEGIN:STANDARD
TZOFFSETFROM:+0200
TZOFFSETTO:+0100
TZNAME:CET
DTSTART:20231029T010000
END:STANDARD
END:VTIMEZONE
BEGIN:VEVENT
DTSTART;TZID=Europe/Berlin:20231003T200000
DTEND;TZID=Europe/Berlin:20231003T200000
DTSTAMP:20260420T080833
CREATED:20230822T101805Z
LAST-MODIFIED:20230822T101805Z
UID:1747-1696363200-1696363200@www.kunstrasen-magazin.de
SUMMARY:Morgens um vier
DESCRIPTION:ELEMENT OF CRIME\nDiese Band ist ein Phänomen: Seit 36 Jahren ziehen die Musiker um Sänger und Texter Sven Regener ihren Stiefel durch. Auch auf dem neuen Album „Morgens um vier“ finden sich der unverwechselbare Sound\, die charismatisch-kratzige Stimme und großartige Texte. Wie bei „Unscharf mit Katze“. Da heißt es u. a. „Wir haben keine Ahnung\, aber Bilder“ oder „Wir haben keine Lösung\, aber Lieder“. Das ist programmatisch\, denn bei den poetischen Songs von EoC geht es nicht um den erhobenen Zeigefinger oder eine allumfassende Botschaft\, sondern um kluge\, ausschnitthafte Betrachtungen\, die viel Raum für eigene Assoziationen lassen. Das war schon 1987 so\, als das erste Album „Try to be Mensch“ – übrigens von John Cale produziert und die Texte noch auf Englisch – Musikbegeisterte aufhorchen ließ. Und auch 1991\, als mit „Damals hinterm Mond“ der erste deutschsprachige Longplayer erschien und Element of Crime Herbert Grönemeyer als Vorprogramm auf Teilen seiner Tour begleitete. Längst schon füllen sie allein die großen Hallen der Republik\, mit ihren zuweilen melancholischen Liedern\, die immer auch ein Gefühl von Hoffnung und Liebe vermitteln. Live immer wieder ein Erlebnis. \n 
URL:https://www.kunstrasen-magazin.de/event/morgens-um-vier/
LOCATION:Lokschuppen
ATTACH;FMTTYPE=image/jpeg:https://www.kunstrasen-magazin.de/wp-content/uploads/2023/08/2023_Element-of-Crime_02_FOTOCREDIT_CharlotteGoltermann.jpeg
END:VEVENT
END:VCALENDAR