BEGIN:VCALENDAR
VERSION:2.0
PRODID:-//Kunstrasen - ECPv5.9.1//NONSGML v1.0//EN
CALSCALE:GREGORIAN
METHOD:PUBLISH
X-WR-CALNAME:Kunstrasen
X-ORIGINAL-URL:https://www.kunstrasen-magazin.de
X-WR-CALDESC:Veranstaltungen für Kunstrasen
BEGIN:VTIMEZONE
TZID:Europe/Berlin
BEGIN:DAYLIGHT
TZOFFSETFROM:+0100
TZOFFSETTO:+0200
TZNAME:CEST
DTSTART:20240331T010000
END:DAYLIGHT
BEGIN:STANDARD
TZOFFSETFROM:+0200
TZOFFSETTO:+0100
TZNAME:CET
DTSTART:20241027T010000
END:STANDARD
END:VTIMEZONE
BEGIN:VEVENT
DTSTART;TZID=Europe/Berlin:20241012T200000
DTEND;TZID=Europe/Berlin:20241012T200000
DTSTAMP:20260421T143009
CREATED:20240826T103919Z
LAST-MODIFIED:20240826T103919Z
UID:2531-1728763200-1728763200@www.kunstrasen-magazin.de
SUMMARY:Mondo Brohmo 6
DESCRIPTION:Seit 2018 präsentiert Sacha Brohm (bekannt von den Lesebühnen Zirkeltraining\, Sitzen 73\, Die Giganten der Untertreibung) mittlerweile seine umfangreichen Leseabende mit abgründigen Alltagstexten sowie den mittlerweile klassischen Mondo-Filmen.
URL:https://www.kunstrasen-magazin.de/event/mondo-brohmo-6/
LOCATION:Lichtwerk
END:VEVENT
END:VCALENDAR