BEGIN:VCALENDAR
VERSION:2.0
PRODID:-//Kunstrasen - ECPv5.9.1//NONSGML v1.0//EN
CALSCALE:GREGORIAN
METHOD:PUBLISH
X-WR-CALNAME:Kunstrasen
X-ORIGINAL-URL:https://www.kunstrasen-magazin.de
X-WR-CALDESC:Veranstaltungen für Kunstrasen
BEGIN:VTIMEZONE
TZID:Europe/Berlin
BEGIN:DAYLIGHT
TZOFFSETFROM:+0100
TZOFFSETTO:+0200
TZNAME:CEST
DTSTART:20240331T010000
END:DAYLIGHT
BEGIN:STANDARD
TZOFFSETFROM:+0200
TZOFFSETTO:+0100
TZNAME:CET
DTSTART:20241027T010000
END:STANDARD
END:VTIMEZONE
BEGIN:VEVENT
DTSTART;TZID=Europe/Berlin:20241010T200000
DTEND;TZID=Europe/Berlin:20241010T200000
DTSTAMP:20260421T093830
CREATED:20240826T101612Z
LAST-MODIFIED:20240826T101612Z
UID:2523-1728590400-1728590400@www.kunstrasen-magazin.de
SUMMARY:Mo-Torres
DESCRIPTION:Aller guten Dinge sind drei – und so geht Mo-Torres nach 2022 und 2023 auch 2024 wieder auf große Tour durch Deutschland. Nach erfolgreicher „HWAB“ Album-Tour möchte der Kölner weiterwachsen. Im Rahmen der „Übertrieben schön“-Tour präsentiert der Rheinländer gleich zwei „Top 5“ Alben und einige neue Ohrwurm-Songs.
URL:https://www.kunstrasen-magazin.de/event/mo-torres/
LOCATION:Forum
ATTACH;FMTTYPE=image/jpeg:https://www.kunstrasen-magazin.de/wp-content/uploads/2024/08/10_Mo-Torres-©benhammer.jpeg
END:VEVENT
END:VCALENDAR