BEGIN:VCALENDAR
VERSION:2.0
PRODID:-//Kunstrasen - ECPv5.9.1//NONSGML v1.0//EN
CALSCALE:GREGORIAN
METHOD:PUBLISH
X-WR-CALNAME:Kunstrasen
X-ORIGINAL-URL:https://www.kunstrasen-magazin.de
X-WR-CALDESC:Veranstaltungen für Kunstrasen
BEGIN:VTIMEZONE
TZID:Europe/Berlin
BEGIN:DAYLIGHT
TZOFFSETFROM:+0100
TZOFFSETTO:+0200
TZNAME:CEST
DTSTART:20260329T010000
END:DAYLIGHT
BEGIN:STANDARD
TZOFFSETFROM:+0200
TZOFFSETTO:+0100
TZNAME:CET
DTSTART:20261025T010000
END:STANDARD
END:VTIMEZONE
BEGIN:VEVENT
DTSTART;VALUE=DATE:20260724
DTEND;VALUE=DATE:20260727
DTSTAMP:20260420T140221
CREATED:20250825T122254Z
LAST-MODIFIED:20250825T122254Z
UID:3059-1784851200-1785110399@www.kunstrasen-magazin.de
SUMMARY:Mittelalter-Spektakel
DESCRIPTION:Sparrenburgfest \nDer bunte Tross der Fogelvreien hält Einzug mit Handwerk und Handel\, Spielmannskunst und Gaukelei\, Rittern und Edeldamen\, Falconnieren und Wunderkrämern und versetzt Bielefelds Wahrzeichen ein paar Jahrhunderte zurück. \nFoto: Bielefeld Marketing GmbH/J.J. Schmidt
URL:https://www.kunstrasen-magazin.de/event/mittelalter-spektakel-2/
LOCATION:Sparrenburg
ATTACH;FMTTYPE=image/jpeg:https://www.kunstrasen-magazin.de/wp-content/uploads/2025/08/Juli-24_SparrenburgfestcBielefeld-Marketing-GmbH_J.J.-Schmidt-scaled.jpg
END:VEVENT
END:VCALENDAR