BEGIN:VCALENDAR
VERSION:2.0
PRODID:-//Kunstrasen - ECPv5.9.1//NONSGML v1.0//EN
CALSCALE:GREGORIAN
METHOD:PUBLISH
X-WR-CALNAME:Kunstrasen
X-ORIGINAL-URL:https://www.kunstrasen-magazin.de
X-WR-CALDESC:Veranstaltungen für Kunstrasen
BEGIN:VTIMEZONE
TZID:Europe/Berlin
BEGIN:DAYLIGHT
TZOFFSETFROM:+0100
TZOFFSETTO:+0200
TZNAME:CEST
DTSTART:20200329T010000
END:DAYLIGHT
BEGIN:STANDARD
TZOFFSETFROM:+0200
TZOFFSETTO:+0100
TZNAME:CET
DTSTART:20201025T010000
END:STANDARD
END:VTIMEZONE
BEGIN:VEVENT
DTSTART;TZID=Europe/Berlin:20201208T200000
DTEND;TZID=Europe/Berlin:20201208T200000
DTSTAMP:20260420T112703
CREATED:20200922T072519Z
LAST-MODIFIED:20200922T072519Z
UID:268-1607457600-1607457600@www.kunstrasen-magazin.de
SUMMARY:Miroslav Nemec & Udo Wachtveitl
DESCRIPTION:DICKENS‘ WEIHNACHTSGESCHICHTE \nNach einem Jahr Pause kommen sie zurück nach Bielefeld: die beiden beliebten „Tatort“- Kommissare Miroslav Nemec und Udo Wachtveitl. Gemeinsam „ermitteln“ sie in einem ganz besonderen Fall: Sie präsentieren Charles Dickens‘ berühmte Weihnachtsgeschichte als Bühnenmärchen mit Musik. Die sozialkritische Erzählung über den alten Geizhals Ebenezer Scrooge\, der am Vorabend des Weihnachtsfestes von vier Geistern heimgesucht wird und durch sie seine Menschlichkeit wiederentdeckt\, ist ein zeitloser Klassiker. In der Interpretation von Miroslav Nemec und Udo Wachtveitl erhält er eine unglaubliche Lebendigkeit. Beiden gelingt es im Zusammenspiel mit Licht und Musik den skurrilen britischen Humor auf anrührende Weise herauszuarbeiten.
URL:https://www.kunstrasen-magazin.de/event/miroslav-nemec-udo-wachtveitl/
LOCATION:RUDOLFOETKER-HALLE
ATTACH;FMTTYPE=image/jpeg:https://www.kunstrasen-magazin.de/wp-content/uploads/2020/09/WeihnachtsgeschichtecStefan-Nimmesgern-scaled.jpeg
END:VEVENT
END:VCALENDAR