BEGIN:VCALENDAR
VERSION:2.0
PRODID:-//Kunstrasen - ECPv5.9.1//NONSGML v1.0//EN
CALSCALE:GREGORIAN
METHOD:PUBLISH
X-WR-CALNAME:Kunstrasen
X-ORIGINAL-URL:https://www.kunstrasen-magazin.de
X-WR-CALDESC:Veranstaltungen für Kunstrasen
BEGIN:VTIMEZONE
TZID:Europe/Berlin
BEGIN:DAYLIGHT
TZOFFSETFROM:+0100
TZOFFSETTO:+0200
TZNAME:CEST
DTSTART:20240331T010000
END:DAYLIGHT
BEGIN:STANDARD
TZOFFSETFROM:+0200
TZOFFSETTO:+0100
TZNAME:CET
DTSTART:20241027T010000
END:STANDARD
END:VTIMEZONE
BEGIN:VEVENT
DTSTART;TZID=Europe/Berlin:20240920T200000
DTEND;TZID=Europe/Berlin:20240920T200000
DTSTAMP:20260421T043314
CREATED:20240826T095522Z
LAST-MODIFIED:20240826T095522Z
UID:2515-1726862400-1726862400@www.kunstrasen-magazin.de
SUMMARY:Matthias Reuter
DESCRIPTION:„Matthias Reuter ist höchstwahrscheinlich echt“\, so heißt das aktuelle Programm des Musikkabarettisten. Und es spricht einiges dafür\, denn seine Texte beinhalten Ansichten\, die kein Computer je teilen würde. Er erzählt Geschichten und Songs aus dem echten Leben fernab von Nullen und Einsen – aktuelle Satire mit selbst gemachten Gedanken.
URL:https://www.kunstrasen-magazin.de/event/matthias-reuter/
LOCATION:FZZ Stieghorst
ATTACH;FMTTYPE=image/jpeg:https://www.kunstrasen-magazin.de/wp-content/uploads/2024/08/20_Matthias-ReutercHarald-Hoffmann.jpg
END:VEVENT
END:VCALENDAR