BEGIN:VCALENDAR
VERSION:2.0
PRODID:-//Kunstrasen - ECPv5.9.1//NONSGML v1.0//EN
CALSCALE:GREGORIAN
METHOD:PUBLISH
X-WR-CALNAME:Kunstrasen
X-ORIGINAL-URL:https://www.kunstrasen-magazin.de
X-WR-CALDESC:Veranstaltungen für Kunstrasen
BEGIN:VTIMEZONE
TZID:Europe/Berlin
BEGIN:DAYLIGHT
TZOFFSETFROM:+0100
TZOFFSETTO:+0200
TZNAME:CEST
DTSTART:20230326T010000
END:DAYLIGHT
BEGIN:STANDARD
TZOFFSETFROM:+0200
TZOFFSETTO:+0100
TZNAME:CET
DTSTART:20231029T010000
END:STANDARD
END:VTIMEZONE
BEGIN:VEVENT
DTSTART;TZID=Europe/Berlin:20231006T200000
DTEND;TZID=Europe/Berlin:20231006T200000
DTSTAMP:20260420T112056
CREATED:20230822T100747Z
LAST-MODIFIED:20230822T100747Z
UID:1738-1696622400-1696622400@www.kunstrasen-magazin.de
SUMMARY:Lysistrata
DESCRIPTION:FORUM FÜR KREATIVITÄT & KOMMUNIKATION\nDie Männer aus Sparta und Athen prügeln sich um Macht und Geld. Die Frauen haben die Schnauze voll und proben den Aufstand: Sie stehlen die Staatskasse\, verschanzen sich in der Akropolis und schwören\, sich ihren Männern so lange sexuell zu verweigern\, bis der Krieg beendet ist. Inszeniert wird diese dramatische Versuchsanordnung konsequent aus weiblicher Sicht. Drei Protagonistinnen präsentieren eine aktuelle Überschreibung des klassischen Komödienstoffs\, indem sie das Frauenbild des Dichters Aristophanes als veraltet\, sexistisch und deshalb frustrierend aktuell entlarven. \n 
URL:https://www.kunstrasen-magazin.de/event/lysistrata/
LOCATION:GAB-Kulturpunkt
ATTACH;FMTTYPE=image/jpeg:https://www.kunstrasen-magazin.de/wp-content/uploads/2023/08/2023-10-06-Lysistrata-scaled.jpg
END:VEVENT
END:VCALENDAR