BEGIN:VCALENDAR
VERSION:2.0
PRODID:-//Kunstrasen - ECPv5.9.1//NONSGML v1.0//EN
CALSCALE:GREGORIAN
METHOD:PUBLISH
X-WR-CALNAME:Kunstrasen
X-ORIGINAL-URL:https://www.kunstrasen-magazin.de
X-WR-CALDESC:Veranstaltungen für Kunstrasen
BEGIN:VTIMEZONE
TZID:Europe/Berlin
BEGIN:DAYLIGHT
TZOFFSETFROM:+0100
TZOFFSETTO:+0200
TZNAME:CEST
DTSTART:20230326T010000
END:DAYLIGHT
BEGIN:STANDARD
TZOFFSETFROM:+0200
TZOFFSETTO:+0100
TZNAME:CET
DTSTART:20231029T010000
END:STANDARD
END:VTIMEZONE
BEGIN:VEVENT
DTSTART;TZID=Europe/Berlin:20231030T200000
DTEND;TZID=Europe/Berlin:20231030T200000
DTSTAMP:20260420T112340
CREATED:20230824T141056Z
LAST-MODIFIED:20230824T141056Z
UID:2098-1698696000-1698696000@www.kunstrasen-magazin.de
SUMMARY:LIVE & SOLO 2023
DESCRIPTION:Dittsche\nEin Spot\, ein Mikrofon und ein Mann im Bademantel – mehr braucht es nicht für einen grandiosen Abend! In unserer aktuell schwierigen Zeit wird die Tresen-Philosophie der mehrfach ausgezeichneten TV-Kultfigur Dittsche mehr gebraucht denn je.
URL:https://www.kunstrasen-magazin.de/event/live-solo-2023/
LOCATION:Stadthalle
ATTACH;FMTTYPE=image/jpeg:https://www.kunstrasen-magazin.de/wp-content/uploads/2023/08/30_DittschecBeba-Franziska-Lindhorst-scaled.jpg
END:VEVENT
END:VCALENDAR