BEGIN:VCALENDAR
VERSION:2.0
PRODID:-//Kunstrasen - ECPv5.9.1//NONSGML v1.0//EN
CALSCALE:GREGORIAN
METHOD:PUBLISH
X-WR-CALNAME:Kunstrasen
X-ORIGINAL-URL:https://www.kunstrasen-magazin.de
X-WR-CALDESC:Veranstaltungen für Kunstrasen
BEGIN:VTIMEZONE
TZID:Europe/Berlin
BEGIN:DAYLIGHT
TZOFFSETFROM:+0100
TZOFFSETTO:+0200
TZNAME:CEST
DTSTART:20210328T010000
END:DAYLIGHT
BEGIN:STANDARD
TZOFFSETFROM:+0200
TZOFFSETTO:+0100
TZNAME:CET
DTSTART:20211031T010000
END:STANDARD
END:VTIMEZONE
BEGIN:VEVENT
DTSTART;TZID=Europe/Berlin:20210223T200000
DTEND;TZID=Europe/Berlin:20210223T200000
DTSTAMP:20260421T005908
CREATED:20200921T115951Z
LAST-MODIFIED:20200921T115951Z
UID:173-1614110400-1614110400@www.kunstrasen-magazin.de
SUMMARY:Lisa Feller
DESCRIPTION:ICH KOMM‘ JETZT ÖFTER! \nBeste Laune und die Fähigkeit sich selbst nicht allzu ernst zu nehmen – bei diesen Qualitäten ist es eine gute Nachricht\, wenn die erfolgreiche Comedienne verspricht: „Ich komm‘ jetzt öfter!“ Und in dem gleichnamigen Programm verrät die berufstätige „Supermom“ auch gleich\, wie sie das hinbekommt. Die Frage ist nur – wie oft darf eine Mutter denn etwas für sich tun\, ohne als egoistische Rabenmutter dazustehen? Und gilt das Motto auch fürs Überleben im erotischen Alltagsdschungel\, zwischen flotter Anmache an der Wursttheke und frivolem Kugelschreibertauschen mit dem Single-Vater beim Elternabend? Während kluge Köpfe über Feminismus debattieren\, sagt Lisa Feller bodenständig und verschmitzt: „Gleichberechtigung würde mir schon reichen!“
URL:https://www.kunstrasen-magazin.de/event/lisa-feller/
LOCATION:LOKSCHUPPEN
ATTACH;FMTTYPE=image/jpeg:https://www.kunstrasen-magazin.de/wp-content/uploads/2020/09/Lisa-FellercStephan-Pick-scaled.jpg
END:VEVENT
END:VCALENDAR