BEGIN:VCALENDAR
VERSION:2.0
PRODID:-//Kunstrasen - ECPv5.9.1//NONSGML v1.0//EN
CALSCALE:GREGORIAN
METHOD:PUBLISH
X-WR-CALNAME:Kunstrasen
X-ORIGINAL-URL:https://www.kunstrasen-magazin.de
X-WR-CALDESC:Veranstaltungen für Kunstrasen
BEGIN:VTIMEZONE
TZID:Europe/Berlin
BEGIN:DAYLIGHT
TZOFFSETFROM:+0100
TZOFFSETTO:+0200
TZNAME:CEST
DTSTART:20240331T010000
END:DAYLIGHT
BEGIN:STANDARD
TZOFFSETFROM:+0200
TZOFFSETTO:+0100
TZNAME:CET
DTSTART:20241027T010000
END:STANDARD
END:VTIMEZONE
BEGIN:VEVENT
DTSTART;TZID=Europe/Berlin:20241002T174500
DTEND;TZID=Europe/Berlin:20241002T174500
DTSTAMP:20260421T075153
CREATED:20240826T100523Z
LAST-MODIFIED:20241002T122707Z
UID:2521-1727891100-1727891100@www.kunstrasen-magazin.de
SUMMARY:Lilli Lake
DESCRIPTION:Daily Manual\, eine jährlich wiederkehrende Veranstaltungsreihe des Kunstverein Bielefeld\, bezieht sich auf das Art/Life Institute Handbook der Künstlerin Linda Montano. In Anlehnung an ihre performativen Übungen hat der Kunstverein ein kuratorisches Format entwickelt\, das nach heutigen Entwürfen und Verhältnismäßigkeiten des (Zusammen)-Lebens fragt. Die Sound Performance der Künstlerin Lilli Lake spült die intimen Eigenschaften von Klang an die Oberfläche
URL:https://www.kunstrasen-magazin.de/event/lilli-lake/
LOCATION:Kunstverein Bielefeld
END:VEVENT
END:VCALENDAR