BEGIN:VCALENDAR
VERSION:2.0
PRODID:-//Kunstrasen - ECPv5.9.1//NONSGML v1.0//EN
CALSCALE:GREGORIAN
METHOD:PUBLISH
X-WR-CALNAME:Kunstrasen
X-ORIGINAL-URL:https://www.kunstrasen-magazin.de
X-WR-CALDESC:Veranstaltungen für Kunstrasen
BEGIN:VTIMEZONE
TZID:Europe/Berlin
BEGIN:DAYLIGHT
TZOFFSETFROM:+0100
TZOFFSETTO:+0200
TZNAME:CEST
DTSTART:20200329T010000
END:DAYLIGHT
BEGIN:STANDARD
TZOFFSETFROM:+0200
TZOFFSETTO:+0100
TZNAME:CET
DTSTART:20201025T010000
END:STANDARD
END:VTIMEZONE
BEGIN:VEVENT
DTSTART;TZID=Europe/Berlin:20201129T193000
DTEND;TZID=Europe/Berlin:20201129T193000
DTSTAMP:20260420T125017
CREATED:20200922T085911Z
LAST-MODIFIED:20200922T085944Z
UID:294-1606678200-1606678200@www.kunstrasen-magazin.de
SUMMARY:Lesung: Albert Camus
DESCRIPTION:DIE PEST – ABSURDITÄT EINER SEUCHE \nWohl kaum ein Roman wurde in den letzten Monaten so häufi g aus dem Bücherregal geholt wie dieser. Eine Seuche bricht sich langsam Bahn in der algerischen Stadt Oran\, führt in den unvermeidlichen Ausnahmezustand\, in dem jede Figur auf ihre Weise die Pest bekämpft und nach Erklärungen sucht. Der Roman zeigt gerade in der aktuellen Situation wieder erschreckende Relevanz. Das Schauspielteam Insa Stuckenbröker und Christian Knäpper liest aus dem berühmten Werk von Albert Camus. Eintrittskarten für diese und alle anderen Veranstaltungen müssen unter Tel. 1438238 oder über das Buchungstool der Webseite vorbestellt werden. www.movement-bielefeld.de
URL:https://www.kunstrasen-magazin.de/event/lesung-albert-camus/
LOCATION:Movement Theater
END:VEVENT
END:VCALENDAR