BEGIN:VCALENDAR
VERSION:2.0
PRODID:-//Kunstrasen - ECPv5.9.1//NONSGML v1.0//EN
CALSCALE:GREGORIAN
METHOD:PUBLISH
X-WR-CALNAME:Kunstrasen
X-ORIGINAL-URL:https://www.kunstrasen-magazin.de
X-WR-CALDESC:Veranstaltungen für Kunstrasen
BEGIN:VTIMEZONE
TZID:Europe/Berlin
BEGIN:DAYLIGHT
TZOFFSETFROM:+0100
TZOFFSETTO:+0200
TZNAME:CEST
DTSTART:20260329T010000
END:DAYLIGHT
BEGIN:STANDARD
TZOFFSETFROM:+0200
TZOFFSETTO:+0100
TZNAME:CET
DTSTART:20261025T010000
END:STANDARD
END:VTIMEZONE
BEGIN:VEVENT
DTSTART;TZID=Europe/Berlin:20260415T200000
DTEND;TZID=Europe/Berlin:20260415T200000
DTSTAMP:20260419T201920
CREATED:20250825T084211Z
LAST-MODIFIED:20250825T084211Z
UID:3029-1776283200-1776283200@www.kunstrasen-magazin.de
SUMMARY:Lesung
DESCRIPTION:Jan Weiler \nUnter dem Motto „Das Beste! Mein Leben zwischen Pubertieren“ spannt der bekannte Autor („Maria\, ihm schmeckt’s nicht“) einen weiten Bogen von den ersten Warnzeichen der Pubertät seiner Kinder und ihren glanzvollen Höhepunkten zwischen Partys und Pickeln bis zum Auszug der Pubertiere aus dem heimischen Nest.
URL:https://www.kunstrasen-magazin.de/event/lesung-3/
LOCATION:Stadttheater
END:VEVENT
END:VCALENDAR