BEGIN:VCALENDAR
VERSION:2.0
PRODID:-//Kunstrasen - ECPv5.9.1//NONSGML v1.0//EN
CALSCALE:GREGORIAN
METHOD:PUBLISH
X-WR-CALNAME:Kunstrasen
X-ORIGINAL-URL:https://www.kunstrasen-magazin.de
X-WR-CALDESC:Veranstaltungen für Kunstrasen
BEGIN:VTIMEZONE
TZID:Europe/Berlin
BEGIN:DAYLIGHT
TZOFFSETFROM:+0100
TZOFFSETTO:+0200
TZNAME:CEST
DTSTART:20260329T010000
END:DAYLIGHT
BEGIN:STANDARD
TZOFFSETFROM:+0200
TZOFFSETTO:+0100
TZNAME:CET
DTSTART:20261025T010000
END:STANDARD
END:VTIMEZONE
BEGIN:VEVENT
DTSTART;TZID=Europe/Berlin:20260515T200000
DTEND;TZID=Europe/Berlin:20260515T200000
DTSTAMP:20260420T055951
CREATED:20250825T120701Z
LAST-MODIFIED:20250825T120701Z
UID:3045-1778875200-1778875200@www.kunstrasen-magazin.de
SUMMARY:Kulturkombinat Kamp präsentiert
DESCRIPTION:Jenny Thiele \nDass elektronischer Pop mehr sein kann als nur die Summe der einzelnen Teile\, wissen alle\, die sich schon mal in einen Diskokugel-Hit verliebt haben. Wie sehr man dieses Prinzip aber zur Meisterschaft bringen kann\, dafür braucht es dann doch die Kölnerin Jenny Thiele und ihr neues Album „Platz“.
URL:https://www.kunstrasen-magazin.de/event/kulturkombinat-kamp-praesentiert/
LOCATION:Bunker Ulmenwall
END:VEVENT
END:VCALENDAR