BEGIN:VCALENDAR
VERSION:2.0
PRODID:-//Kunstrasen - ECPv5.9.1//NONSGML v1.0//EN
CALSCALE:GREGORIAN
METHOD:PUBLISH
X-WR-CALNAME:Kunstrasen
X-ORIGINAL-URL:https://www.kunstrasen-magazin.de
X-WR-CALDESC:Veranstaltungen für Kunstrasen
BEGIN:VTIMEZONE
TZID:Europe/Berlin
BEGIN:DAYLIGHT
TZOFFSETFROM:+0100
TZOFFSETTO:+0200
TZNAME:CEST
DTSTART:20230326T010000
END:DAYLIGHT
BEGIN:STANDARD
TZOFFSETFROM:+0200
TZOFFSETTO:+0100
TZNAME:CET
DTSTART:20231029T010000
END:STANDARD
END:VTIMEZONE
BEGIN:VEVENT
DTSTART;TZID=Europe/Berlin:20231113T200000
DTEND;TZID=Europe/Berlin:20231113T200000
DTSTAMP:20260420T094548
CREATED:20230825T065259Z
LAST-MODIFIED:20230825T065259Z
UID:2141-1699905600-1699905600@www.kunstrasen-magazin.de
SUMMARY:KLANGVOLL
DESCRIPTION:Colour Haze\nColour Haze aus München sind seit vielen Jahren eine Institution der deutschen „Psychedelic & Heavy Rock“-Szene. Die Band versteht es meisterhaft\, mit ihrer Musik Bilder zu malen und Klanglandschaften zu erschaffen.
URL:https://www.kunstrasen-magazin.de/event/klangvoll/
LOCATION:Forum
END:VEVENT
END:VCALENDAR