BEGIN:VCALENDAR
VERSION:2.0
PRODID:-//Kunstrasen - ECPv5.9.1//NONSGML v1.0//EN
CALSCALE:GREGORIAN
METHOD:PUBLISH
X-WR-CALNAME:Kunstrasen
X-ORIGINAL-URL:https://www.kunstrasen-magazin.de
X-WR-CALDESC:Veranstaltungen für Kunstrasen
BEGIN:VTIMEZONE
TZID:Europe/Berlin
BEGIN:DAYLIGHT
TZOFFSETFROM:+0100
TZOFFSETTO:+0200
TZNAME:CEST
DTSTART:20240331T010000
END:DAYLIGHT
BEGIN:STANDARD
TZOFFSETFROM:+0200
TZOFFSETTO:+0100
TZNAME:CET
DTSTART:20241027T010000
END:STANDARD
END:VTIMEZONE
BEGIN:VEVENT
DTSTART;VALUE=DATE:20240223
DTEND;VALUE=DATE:20240225
DTSTAMP:20260421T005542
CREATED:20230825T122343Z
LAST-MODIFIED:20230825T122343Z
UID:2278-1708646400-1708819199@www.kunstrasen-magazin.de
SUMMARY:KAMPF UM DEN PUDDING
DESCRIPTION:27. Bielefelder Kabarettpreis\nNach wie vor einmalig: Der Preis richtet sich ausdrücklich an den Nachwuchs\, der mit seinem Debüt-Programm um die Gunst des Publikums wetteifert. Viele\, die sich hier den Pudding an die Wand genagelt haben (von Bülent Ceylan bis zu Katie Freudenschuss)\, gehören heute zu den ganz großen Namen in der Kabarettszene.
URL:https://www.kunstrasen-magazin.de/event/kampf-um-den-pudding/
LOCATION:Zweischlingen
ATTACH;FMTTYPE=image/jpeg:https://www.kunstrasen-magazin.de/wp-content/uploads/2023/08/23_Bielefelder-Kabarettpreis.jpg
END:VEVENT
END:VCALENDAR