BEGIN:VCALENDAR
VERSION:2.0
PRODID:-//Kunstrasen - ECPv5.9.1//NONSGML v1.0//EN
CALSCALE:GREGORIAN
METHOD:PUBLISH
X-WR-CALNAME:Kunstrasen
X-ORIGINAL-URL:https://www.kunstrasen-magazin.de
X-WR-CALDESC:Veranstaltungen für Kunstrasen
BEGIN:VTIMEZONE
TZID:Europe/Berlin
BEGIN:DAYLIGHT
TZOFFSETFROM:+0100
TZOFFSETTO:+0200
TZNAME:CEST
DTSTART:20240331T010000
END:DAYLIGHT
BEGIN:STANDARD
TZOFFSETFROM:+0200
TZOFFSETTO:+0100
TZNAME:CET
DTSTART:20241027T010000
END:STANDARD
END:VTIMEZONE
BEGIN:VEVENT
DTSTART;TZID=Europe/Berlin:20240314T200000
DTEND;TZID=Europe/Berlin:20240315T000000
DTSTAMP:20260422T214038
CREATED:20230822T130948Z
LAST-MODIFIED:20230822T131032Z
UID:1814-1710446400-1710460800@www.kunstrasen-magazin.de
SUMMARY:Irish Spring Festival
DESCRIPTION:Seit über 20 Jahren tourt das traditionelle „Festival of Irish Folk Music“ durch Deutschland\, war aber noch nie in Bielefeld. „Jetzt ist es uns gelungen\, das Festival für zwei Tage zu uns zu holen“\, freut sich Inka Stückemann\, Kulturkoordination der Neuen Schmiede. Herausragende Künstler*innen präsentieren feinste irische Folk-Musik und irischen Tanz. Hier treffen Innovationen auf tief verwurzelte Traditionen der irischen Folk-Szene. \n \nDie in Dublin lebende Sängerin\, Multiinstrumentalistin und Songwriterin Inni-K schöpft aus dem großen Fundus traditioneller irischer Musik\, und wagt sich immer wieder in neue musikalische Gefilde. The Moynihans sind ein Geschwister-Trio aus Cork City\, das seit vielen Jahren in der Top-Liga irischer Musik beheimatet ist. Traditionelle irische Klänge vermischen sich mit zeitgenössischen kraftvollen Jigs und Reels und großartigen Eigenkompositionen. 3’oh featuring Anne Brennan sind eine vierköpfige Band\, deren Songs bei den Fans irischer\nMusik keine Wünsche offen lässt. Alle standen bereits mit dem „Who is Who“ der irischen Musikszene auf der Bühne und haben sich extra für das Irish Spring Festival zusammengefunden zu einer Folk-Band der Extraklasse. \nAneta Dortova hat irischen Tanz studiert und besitzt ein Master’s degree der Universität Limerick in Contemporary Dance Performance. Der irische Steptanz und der Sean-Nós-Tanz haben es ihr besonders angetan. Sie tritt mit ihren bezaubernden Tanzeinlagen in direkte Dialoge zu den Musikern und sorgt für unvergleichliche Schaubilder. Im großen Finale am Ende des Konzertabends stehen alle Akteur*innen gemeinsam auf der Bühne.\nwww.irishspring.de
URL:https://www.kunstrasen-magazin.de/event/irish-spring-festival/
ATTACH;FMTTYPE=image/jpeg:https://www.kunstrasen-magazin.de/wp-content/uploads/2023/08/The-MoynihanscMichael-Meade-scaled.jpg
END:VEVENT
END:VCALENDAR