BEGIN:VCALENDAR
VERSION:2.0
PRODID:-//Kunstrasen - ECPv5.9.1//NONSGML v1.0//EN
CALSCALE:GREGORIAN
METHOD:PUBLISH
X-WR-CALNAME:Kunstrasen
X-ORIGINAL-URL:https://www.kunstrasen-magazin.de
X-WR-CALDESC:Veranstaltungen für Kunstrasen
BEGIN:VTIMEZONE
TZID:Europe/Berlin
BEGIN:DAYLIGHT
TZOFFSETFROM:+0100
TZOFFSETTO:+0200
TZNAME:CEST
DTSTART:20260329T010000
END:DAYLIGHT
BEGIN:STANDARD
TZOFFSETFROM:+0200
TZOFFSETTO:+0100
TZNAME:CET
DTSTART:20261025T010000
END:STANDARD
END:VTIMEZONE
BEGIN:VEVENT
DTSTART;TZID=Europe/Berlin:20260420T200000
DTEND;TZID=Europe/Berlin:20260420T200000
DTSTAMP:20260419T220055
CREATED:20250825T084440Z
LAST-MODIFIED:20250825T084440Z
UID:3031-1776715200-1776715200@www.kunstrasen-magazin.de
SUMMARY:Grenzgänger
DESCRIPTION:Fazil Say \nEr ist ein Grenzgänger. Seine überragenden und überraschenden Interpretationen der großen Klavierwerke der Klassik und Romantik reißen das Publikum weltweit zu Jubelstürmen hin. Gleichzeitig lässt Say auch seine türkischen Wurzeln in seine eigene unverwechselbare Musik einfließen. Absolut stimmig also\, dass er zunächst seine Deutung von Bachs „musikalischem und mathematischem Meisterwerk“ vorstellt und mit „Fazıl Say à la carte“ anschließend eine Zusammenstellung von eigenen Herzenswerken präsentiert. \nFoto: Fethi Karaduman
URL:https://www.kunstrasen-magazin.de/event/grenzgaenger/
LOCATION:Rudolf-Oetker-Halle
ATTACH;FMTTYPE=image/jpeg:https://www.kunstrasen-magazin.de/wp-content/uploads/2025/08/April-20_Fazil-SaycFethi-Karaduman-scaled.jpg
END:VEVENT
END:VCALENDAR