BEGIN:VCALENDAR
VERSION:2.0
PRODID:-//Kunstrasen - ECPv5.9.1//NONSGML v1.0//EN
CALSCALE:GREGORIAN
METHOD:PUBLISH
X-WR-CALNAME:Kunstrasen
X-ORIGINAL-URL:https://www.kunstrasen-magazin.de
X-WR-CALDESC:Veranstaltungen für Kunstrasen
BEGIN:VTIMEZONE
TZID:Europe/Berlin
BEGIN:DAYLIGHT
TZOFFSETFROM:+0100
TZOFFSETTO:+0200
TZNAME:CEST
DTSTART:20230326T010000
END:DAYLIGHT
BEGIN:STANDARD
TZOFFSETFROM:+0200
TZOFFSETTO:+0100
TZNAME:CET
DTSTART:20231029T010000
END:STANDARD
END:VTIMEZONE
BEGIN:VEVENT
DTSTART;TZID=Europe/Berlin:20231111T203000
DTEND;TZID=Europe/Berlin:20231111T203000
DTSTAMP:20260420T080639
CREATED:20230822T120033Z
LAST-MODIFIED:20230822T120033Z
UID:1792-1699734600-1699734600@www.kunstrasen-magazin.de
SUMMARY:GÖTZ WIDMANN
DESCRIPTION:30 Jahre Joint Venture\nAls Götz Widmann und Kleinti Simon im Herbst 1993 in einer rauschenden Nacht Joint Venture gründeten ahnte niemand\, dass sich daraus eines der einflussreichsten deutschsprachigen Liedermacherprojekte überhaupt entwickeln würde. Heute\, 30 Jahre später\, sind Songs wie „Hank“\, „Eduard der Haschischhund“ oder „Holland“ absolute Klassiker. Anders als die\niedermachergeneration vor ihnen erhoben Joint Venture deutlich lieber den Mittel- als den Zeigefinger und hauchten so einem in die Jahre gekommenen Genre ganz frischen Atem ein. Mit ihren lebensfrohen\, vor keinem Tabu Halt machenden Texten machten sie sich viele Freunde\, riefen aber gerade im christlich-konservativen Lager auch einiges Entsetzen hervor. Götz Widmann\, seit dem völlig unerwarteten Tod von Kleinti Simon im Juni 2000 solo auf Tour\, lädt alle Joint-Venture-Fans mit einem speziellen Programm zum Jubiläum ein: mit vielen alten Songs und Stories – spontane Liedwünsche willkommen. \n 
URL:https://www.kunstrasen-magazin.de/event/goetz-widmann/
LOCATION:Bunker Ulmenwall
END:VEVENT
END:VCALENDAR