BEGIN:VCALENDAR
VERSION:2.0
PRODID:-//Kunstrasen - ECPv5.9.1//NONSGML v1.0//EN
CALSCALE:GREGORIAN
METHOD:PUBLISH
X-WR-CALNAME:Kunstrasen
X-ORIGINAL-URL:https://www.kunstrasen-magazin.de
X-WR-CALDESC:Veranstaltungen für Kunstrasen
BEGIN:VTIMEZONE
TZID:Europe/Berlin
BEGIN:DAYLIGHT
TZOFFSETFROM:+0100
TZOFFSETTO:+0200
TZNAME:CEST
DTSTART:20240331T010000
END:DAYLIGHT
BEGIN:STANDARD
TZOFFSETFROM:+0200
TZOFFSETTO:+0100
TZNAME:CET
DTSTART:20241027T010000
END:STANDARD
END:VTIMEZONE
BEGIN:VEVENT
DTSTART;TZID=Europe/Berlin:20240113T190000
DTEND;TZID=Europe/Berlin:20240113T190000
DTSTAMP:20260420T142830
CREATED:20230825T102622Z
LAST-MODIFIED:20230825T102622Z
UID:2230-1705172400-1705172400@www.kunstrasen-magazin.de
SUMMARY:FRÜHSTÜCK AM RANDE DER APOKALYPSE
DESCRIPTION:Wladimir Kaminer\nEiner der fleißigsten Autoren der Republik kommt nach Bielefeld. Dabei geht es querfeldein durch den kunterbunten und farbenfrohen literarischen Garten. Kaminer holt seine Gäste mit detaillierten Situationsbeschreibungen\, viel Charme und intelligentem Humor ab und nimmt sie mit auf eine Reise. Der Ausgang ist stets ungewiss\, niemals vorhersehbar\, aber immer einzigartig.
URL:https://www.kunstrasen-magazin.de/event/fruehstueck-am-rande-der-apokalypse/
LOCATION:Lokschuppen
ATTACH;FMTTYPE=image/jpeg:https://www.kunstrasen-magazin.de/wp-content/uploads/2023/08/13_Wladimir-Kaminer-c-Maria-Krilova.jpg
END:VEVENT
END:VCALENDAR