BEGIN:VCALENDAR
VERSION:2.0
PRODID:-//Kunstrasen - ECPv5.9.1//NONSGML v1.0//EN
CALSCALE:GREGORIAN
METHOD:PUBLISH
X-WR-CALNAME:Kunstrasen
X-ORIGINAL-URL:https://www.kunstrasen-magazin.de
X-WR-CALDESC:Veranstaltungen für Kunstrasen
BEGIN:VTIMEZONE
TZID:Europe/Berlin
BEGIN:DAYLIGHT
TZOFFSETFROM:+0100
TZOFFSETTO:+0200
TZNAME:CEST
DTSTART:20210328T010000
END:DAYLIGHT
BEGIN:STANDARD
TZOFFSETFROM:+0200
TZOFFSETTO:+0100
TZNAME:CET
DTSTART:20211031T010000
END:STANDARD
END:VTIMEZONE
BEGIN:VEVENT
DTSTART;TZID=Europe/Berlin:20210424T190000
DTEND;TZID=Europe/Berlin:20210424T190000
DTSTAMP:20260421T125643
CREATED:20200923T084743Z
LAST-MODIFIED:20200923T084743Z
UID:374-1619290800-1619290800@www.kunstrasen-magazin.de
SUMMARY:Frau Jahnke hat eingeladen
DESCRIPTION:Von den Misfits bis zur Ladies Night – Gerburg Jahnke hat entscheidend dazu beigetragen\, dass sich Frauen einen Platz in der Männerdomäne Kabarett erobert haben. Den Staffelstab der Ladies Night hat sie zwar weitergeben\, aber sie ist nach wie vor mit ihren Lieblingskolleginnen auf Tour. „Wir wollen nicht mehr darüber reden\, dass es nur so wenige gute Frauen in der Szene gäbe. Wir sind präsent\, und wir sind viele“\, unterstreicht Gerburg Jahnke. „Wir behaupten uns elegant und leichtfüßig neben all dem Männerkabarett. Wir sind nicht in Konkurrenz. Wir machen unseren Job – in Kabarett\, Comedy\, Liedgut\, Slapstick und Poetry. Wir sind witzig\, politisch\, böse\, moralisch oder absurd\, wir können singen oder eher nicht\, und meistens sind wir schön! Und live ist das alles noch viel spannender.“
URL:https://www.kunstrasen-magazin.de/event/frau-jahnke-hat-eingeladen/
LOCATION:Stadthalle
ATTACH;FMTTYPE=image/jpeg:https://www.kunstrasen-magazin.de/wp-content/uploads/2020/09/Gerburg-JahnkecHarald-Hoffmann.jpg
END:VEVENT
END:VCALENDAR