BEGIN:VCALENDAR
VERSION:2.0
PRODID:-//Kunstrasen - ECPv5.9.1//NONSGML v1.0//EN
CALSCALE:GREGORIAN
METHOD:PUBLISH
X-WR-CALNAME:Kunstrasen
X-ORIGINAL-URL:https://www.kunstrasen-magazin.de
X-WR-CALDESC:Veranstaltungen für Kunstrasen
BEGIN:VTIMEZONE
TZID:Europe/Berlin
BEGIN:DAYLIGHT
TZOFFSETFROM:+0100
TZOFFSETTO:+0200
TZNAME:CEST
DTSTART:20240331T010000
END:DAYLIGHT
BEGIN:STANDARD
TZOFFSETFROM:+0200
TZOFFSETTO:+0100
TZNAME:CET
DTSTART:20241027T010000
END:STANDARD
END:VTIMEZONE
BEGIN:VEVENT
DTSTART;VALUE=DATE:20240225
DTEND;VALUE=DATE:20240226
DTSTAMP:20260420T210346
CREATED:20230823T125724Z
LAST-MODIFIED:20230823T125724Z
UID:1906-1708819200-1708905599@www.kunstrasen-magazin.de
SUMMARY:Flora Westfalica
DESCRIPTION:VERANSTALTUNGSVIELFALT\nEine mitreißende Show\, ein originelles ComedyProgramm oder ein tolles Konzert? Die Stadthalle Rheda-Wiedenbrück setzt in ihrem aktuellen Programm auf Vielfalt und Abwechslung. Wer herzhaft lachen möchte\, hat die Qual der Wahl zwischen Herrn Schröder (25.2.2024)\, Markus Krebs (5.5.2024)\, Pawel Popolski (8.11.2024) und einigen mehr. Die Fans von Dr. Mark Benecke kommen am 2. März 2024 auf ihre Kosten. Der Star-Kriminalbiologe präsentiert in seiner Show „Fälle am Rande des Möglichen“. Lust auf Musik? Dann wäre das Konzert mit den Queenz of Piano am 16. Dezember 2023 eine echte Empfehlung. Oder wie wäre es mit einem Ausflug in die Karibik? Die kubanische Tanz- und Musik-Show „Pasión de Buena Vista“ kommt am 17. Januar 2024 in die Stadthalle Rheda-Wiedenbrück. Heiße Rhythmen und unvergessliche Melodien versprechen eine einzigartige Show. Die Buena Vista Band und die Tanzformation „El Grupo de Bailar“ versprühen kubanisches Flair und verzaubern mit über 150 maßgeschneiderten Kostümen. \nAlle Veranstaltungen unter www.flora-westfalica.de
URL:https://www.kunstrasen-magazin.de/event/flora-westfalica/
LOCATION:Stadthalle Rheda-Wiedenbrück
ATTACH;FMTTYPE=image/jpeg:https://www.kunstrasen-magazin.de/wp-content/uploads/2023/08/Buena-Vista-Foto-Veranstalter.jpg
END:VEVENT
END:VCALENDAR