BEGIN:VCALENDAR
VERSION:2.0
PRODID:-//Kunstrasen - ECPv5.9.1//NONSGML v1.0//EN
CALSCALE:GREGORIAN
METHOD:PUBLISH
X-WR-CALNAME:Kunstrasen
X-ORIGINAL-URL:https://www.kunstrasen-magazin.de
X-WR-CALDESC:Veranstaltungen für Kunstrasen
BEGIN:VTIMEZONE
TZID:Europe/Berlin
BEGIN:DAYLIGHT
TZOFFSETFROM:+0100
TZOFFSETTO:+0200
TZNAME:CEST
DTSTART:20230326T010000
END:DAYLIGHT
BEGIN:STANDARD
TZOFFSETFROM:+0200
TZOFFSETTO:+0100
TZNAME:CET
DTSTART:20231029T010000
END:STANDARD
BEGIN:DAYLIGHT
TZOFFSETFROM:+0100
TZOFFSETTO:+0200
TZNAME:CEST
DTSTART:20240331T010000
END:DAYLIGHT
BEGIN:STANDARD
TZOFFSETFROM:+0200
TZOFFSETTO:+0100
TZNAME:CET
DTSTART:20241027T010000
END:STANDARD
END:VTIMEZONE
BEGIN:VEVENT
DTSTART;TZID=Europe/Berlin:20230903T000000
DTEND;TZID=Europe/Berlin:20240225T000000
DTSTAMP:20260420T211342
CREATED:20230822T103212Z
LAST-MODIFIED:20230822T103212Z
UID:1761-1693699200-1708819200@www.kunstrasen-magazin.de
SUMMARY:FACETTENREICHE INSEKTEN
DESCRIPTION:Sonderausstellung im namu\nPrächtige Farben\, bizarre Körperformen und faszinierende Lebensweisen: Die Vielfalt und Anpassungsfähigkeit von Insekten ist überwältigend und ihre Bedeutung für unsere Umwelt kaum zu überschätzen. Im Bielefelder Naturkunde-Museum namu ist deshalb eine neue\, umfangreiche Sonderausstellung über die Welt der Insekten zu sehen. \nIn der interaktiven Ausstellung werden die drei Themen „Vielfalt | Gefährdung | Schutz“ mit zahlreichen Originalen\, Schautafeln\, Audio- und Videostationen sowie Großfotos abwechslungsreich vermittelt. Zahlreiche Präparate echter Insekten geben einen Einblick in die unterschiedlichen Gruppen wie Käfer\, Schmetterlinge\, Libellen\, Heuschrecken und viele andere. Ein überdimensionales und detailgetreues Insektenmodell lässt den Körperbau dieser „Kerbtiere“ genau studieren. Durch ihre vielfältige und verständliche Darstellung ist die Ausstellung auch für Familien gut geeignet. Entwickelt wurde sie im Rahmen des Projektes „Proinsekt“ und im Bundesprogramm Biologische Vielfalt vom Bundesamt für Naturschutz mit Mitteln des Bundesumweltministeriums sowie von der Deutschen Bundesstiftung Umwelt gefördert. Die Ausstellung wird von Sonderveranstaltungen wie einem Familienfest (29.10.23) flankiert; Infos dazu finden sich auf der Website. \nwww.namu-ev.de
URL:https://www.kunstrasen-magazin.de/event/facettenreiche-insekten/
LOCATION:NATURKUNDE MUSEUM BIELEFELD
ATTACH;FMTTYPE=image/jpeg:https://www.kunstrasen-magazin.de/wp-content/uploads/2023/08/Namu_Instektenausstellung_KleinlibellencAlberto-Ghizzi-Panizzan-scaled.jpg
END:VEVENT
END:VCALENDAR