BEGIN:VCALENDAR
VERSION:2.0
PRODID:-//Kunstrasen - ECPv5.9.1//NONSGML v1.0//EN
CALSCALE:GREGORIAN
METHOD:PUBLISH
X-WR-CALNAME:Kunstrasen
X-ORIGINAL-URL:https://www.kunstrasen-magazin.de
X-WR-CALDESC:Veranstaltungen für Kunstrasen
BEGIN:VTIMEZONE
TZID:Europe/Berlin
BEGIN:DAYLIGHT
TZOFFSETFROM:+0100
TZOFFSETTO:+0200
TZNAME:CEST
DTSTART:20240331T010000
END:DAYLIGHT
BEGIN:STANDARD
TZOFFSETFROM:+0200
TZOFFSETTO:+0100
TZNAME:CET
DTSTART:20241027T010000
END:STANDARD
END:VTIMEZONE
BEGIN:VEVENT
DTSTART;TZID=Europe/Berlin:20240224T200000
DTEND;TZID=Europe/Berlin:20240224T200000
DTSTAMP:20260420T225611
CREATED:20230825T122930Z
LAST-MODIFIED:20230825T122930Z
UID:2281-1708804800-1708804800@www.kunstrasen-magazin.de
SUMMARY:DER ERLÖSER
DESCRIPTION:Atze Schröder\nGutes Klima\, dauerhafter Frieden und Eierkuchen für alle – nur wie? Die UNO und Disney+ wissen auch nicht mehr weiter. Selbst der Dalai Lama will nicht wiedergeboren werden und verzichtet auf die letzte Staffel. Wie gut\, dass es den King of Comedy gibt. Unbeschwert befreit er das Publikum von der Last des Zeitgeistes und wandelt unsere Payback-Punkte gegen gutes Karma.
URL:https://www.kunstrasen-magazin.de/event/der-erloeser/
LOCATION:Seidensticker Halle
ATTACH;FMTTYPE=image/jpeg:https://www.kunstrasen-magazin.de/wp-content/uploads/2023/08/24_AtzeSchrödercBoris-Breuer-scaled.jpg
END:VEVENT
END:VCALENDAR