BEGIN:VCALENDAR
VERSION:2.0
PRODID:-//Kunstrasen - ECPv5.9.1//NONSGML v1.0//EN
CALSCALE:GREGORIAN
METHOD:PUBLISH
X-WR-CALNAME:Kunstrasen
X-ORIGINAL-URL:https://www.kunstrasen-magazin.de
X-WR-CALDESC:Veranstaltungen für Kunstrasen
BEGIN:VTIMEZONE
TZID:Europe/Berlin
BEGIN:DAYLIGHT
TZOFFSETFROM:+0100
TZOFFSETTO:+0200
TZNAME:CEST
DTSTART:20230326T010000
END:DAYLIGHT
BEGIN:STANDARD
TZOFFSETFROM:+0200
TZOFFSETTO:+0100
TZNAME:CET
DTSTART:20231029T010000
END:STANDARD
END:VTIMEZONE
BEGIN:VEVENT
DTSTART;TZID=Europe/Berlin:20231109T200000
DTEND;TZID=Europe/Berlin:20231109T200000
DTSTAMP:20260420T125752
CREATED:20230824T141913Z
LAST-MODIFIED:20230824T141913Z
UID:2114-1699560000-1699560000@www.kunstrasen-magazin.de
SUMMARY:DAS FORUM ALS KATHEDRALE
DESCRIPTION:Reverend Hardy Hardon and the Church of Elvis\nUnd wieder kehrt Christian Steiffen in seiner Funktion als Reverend Hardy Hardon der Church of Elvis zurück\, um seinen inneren heiligen Elvis spirituell und musikalisch zu neuen Höhen emporzusteigen zu lassen.
URL:https://www.kunstrasen-magazin.de/event/das-forum-als-kathedrale/
LOCATION:Forum
END:VEVENT
END:VCALENDAR