BEGIN:VCALENDAR
VERSION:2.0
PRODID:-//Kunstrasen - ECPv5.9.1//NONSGML v1.0//EN
CALSCALE:GREGORIAN
METHOD:PUBLISH
X-WR-CALNAME:Kunstrasen
X-ORIGINAL-URL:https://www.kunstrasen-magazin.de
X-WR-CALDESC:Veranstaltungen für Kunstrasen
BEGIN:VTIMEZONE
TZID:Europe/Berlin
BEGIN:DAYLIGHT
TZOFFSETFROM:+0100
TZOFFSETTO:+0200
TZNAME:CEST
DTSTART:20260329T010000
END:DAYLIGHT
BEGIN:STANDARD
TZOFFSETFROM:+0200
TZOFFSETTO:+0100
TZNAME:CET
DTSTART:20261025T010000
END:STANDARD
END:VTIMEZONE
BEGIN:VEVENT
DTSTART;TZID=Europe/Berlin:20260423T200000
DTEND;TZID=Europe/Berlin:20260423T200000
DTSTAMP:20260419T234231
CREATED:20250825T085524Z
LAST-MODIFIED:20250825T085524Z
UID:3034-1776974400-1776974400@www.kunstrasen-magazin.de
SUMMARY:Dark Room
DESCRIPTION:Orchester im Treppenhaus \nDas Publikum lauscht dem Orchester und bekannten Synchronsprecher*innen in nahezu völliger Dunkelheit. Eine auditive Ausnahmesituation\, in die man als Zuhörer*in vollumfänglich eintauchen kann. „Klassische“ Musik erscheint im Live-Orchester-Hörspiel in einem völlig anderen Kontext: zugänglich\, eindrücklich – genau richtig.
URL:https://www.kunstrasen-magazin.de/event/dark-room/
LOCATION:Rudolf-Oetker-Halle
END:VEVENT
END:VCALENDAR